BEGIN:VCALENDAR
VERSION:2.0
PRODID:-//Gesher JDS - ECPv6.15.17//NONSGML v1.0//EN
CALSCALE:GREGORIAN
METHOD:PUBLISH
X-WR-CALNAME:Gesher JDS
X-ORIGINAL-URL:https://www.gesher-jds.org
X-WR-CALDESC:Events for Gesher JDS
REFRESH-INTERVAL;VALUE=DURATION:PT1H
X-Robots-Tag:noindex
X-PUBLISHED-TTL:PT1H
BEGIN:VTIMEZONE
TZID:America/New_York
BEGIN:DAYLIGHT
TZOFFSETFROM:-0500
TZOFFSETTO:-0400
TZNAME:EDT
DTSTART:20240310T070000
END:DAYLIGHT
BEGIN:STANDARD
TZOFFSETFROM:-0400
TZOFFSETTO:-0500
TZNAME:EST
DTSTART:20241103T060000
END:STANDARD
BEGIN:DAYLIGHT
TZOFFSETFROM:-0500
TZOFFSETTO:-0400
TZNAME:EDT
DTSTART:20250309T070000
END:DAYLIGHT
BEGIN:STANDARD
TZOFFSETFROM:-0400
TZOFFSETTO:-0500
TZNAME:EST
DTSTART:20251102T060000
END:STANDARD
BEGIN:DAYLIGHT
TZOFFSETFROM:-0500
TZOFFSETTO:-0400
TZNAME:EDT
DTSTART:20260308T070000
END:DAYLIGHT
BEGIN:STANDARD
TZOFFSETFROM:-0400
TZOFFSETTO:-0500
TZNAME:EST
DTSTART:20261101T060000
END:STANDARD
END:VTIMEZONE
BEGIN:VEVENT
DTSTART;VALUE=DATE:20250313
DTEND;VALUE=DATE:20250315
DTSTAMP:20260425T064405
CREATED:20240627T184816Z
LAST-MODIFIED:20250314T150535Z
UID:10004658-1741824000-1741996799@www.gesher-jds.org
SUMMARY:Purim
DESCRIPTION:
URL:https://www.gesher-jds.org/event/purim-3/
END:VEVENT
BEGIN:VEVENT
DTSTART;VALUE=DATE:20250314
DTEND;VALUE=DATE:20250315
DTSTAMP:20260425T064405
CREATED:20240627T184815Z
LAST-MODIFIED:20250314T150535Z
UID:10003815-1741910400-1741996799@www.gesher-jds.org
SUMMARY:Noon Dismissal - Purim
DESCRIPTION:
URL:https://www.gesher-jds.org/event/noon-dismissal-purim-3/
END:VEVENT
BEGIN:VEVENT
DTSTART;VALUE=DATE:20250314
DTEND;VALUE=DATE:20250315
DTSTAMP:20260425T064405
CREATED:20240627T184816Z
LAST-MODIFIED:20250314T150535Z
UID:10003816-1741910400-1741996799@www.gesher-jds.org
SUMMARY:Carnival & Megillah Reading
DESCRIPTION:
URL:https://www.gesher-jds.org/event/carnival-megillah-reading/
END:VEVENT
BEGIN:VEVENT
DTSTART;TZID=America/New_York:20250314T120000
DTEND;TZID=America/New_York:20250314T133000
DTSTAMP:20260425T064405
CREATED:20240627T184804Z
LAST-MODIFIED:20250314T150535Z
UID:10003814-1741953600-1741959000@www.gesher-jds.org
SUMMARY:Middle School Purim Seudah & Social
DESCRIPTION:
URL:https://www.gesher-jds.org/event/middle-school-dance-4/
END:VEVENT
END:VCALENDAR