BEGIN:VCALENDAR
VERSION:2.0
PRODID:-//Gesher JDS - ECPv6.15.17//NONSGML v1.0//EN
CALSCALE:GREGORIAN
METHOD:PUBLISH
X-WR-CALNAME:Gesher JDS
X-ORIGINAL-URL:https://www.gesher-jds.org
X-WR-CALDESC:Events for Gesher JDS
REFRESH-INTERVAL;VALUE=DURATION:PT1H
X-Robots-Tag:noindex
X-PUBLISHED-TTL:PT1H
BEGIN:VTIMEZONE
TZID:America/New_York
BEGIN:DAYLIGHT
TZOFFSETFROM:-0500
TZOFFSETTO:-0400
TZNAME:EDT
DTSTART:20240310T070000
END:DAYLIGHT
BEGIN:STANDARD
TZOFFSETFROM:-0400
TZOFFSETTO:-0500
TZNAME:EST
DTSTART:20241103T060000
END:STANDARD
BEGIN:DAYLIGHT
TZOFFSETFROM:-0500
TZOFFSETTO:-0400
TZNAME:EDT
DTSTART:20250309T070000
END:DAYLIGHT
BEGIN:STANDARD
TZOFFSETFROM:-0400
TZOFFSETTO:-0500
TZNAME:EST
DTSTART:20251102T060000
END:STANDARD
BEGIN:DAYLIGHT
TZOFFSETFROM:-0500
TZOFFSETTO:-0400
TZNAME:EDT
DTSTART:20260308T070000
END:DAYLIGHT
BEGIN:STANDARD
TZOFFSETFROM:-0400
TZOFFSETTO:-0500
TZNAME:EST
DTSTART:20261101T060000
END:STANDARD
END:VTIMEZONE
BEGIN:VEVENT
DTSTART;TZID=America/New_York:20250516T144500
DTEND;TZID=America/New_York:20250516T152000
DTSTAMP:20260421T140503
CREATED:20240827T135036Z
LAST-MODIFIED:20250515T213509Z
UID:10004784-1747406700-1747408800@www.gesher-jds.org
SUMMARY:All School Kabbalat Shabbat
DESCRIPTION:
URL:https://www.gesher-jds.org/event/all-school-kabbalat-shabbat-7/
END:VEVENT
BEGIN:VEVENT
DTSTART;TZID=America/New_York:20250516T083000
DTEND;TZID=America/New_York:20250516T093000
DTSTAMP:20260421T140503
CREATED:20240627T184830Z
LAST-MODIFIED:20250515T213509Z
UID:10003829-1747384200-1747387800@www.gesher-jds.org
SUMMARY:Gan Katan Siyum
DESCRIPTION:
URL:https://www.gesher-jds.org/event/gan-katan-siyum-5/
END:VEVENT
BEGIN:VEVENT
DTSTART;VALUE=DATE:20250516
DTEND;VALUE=DATE:20250517
DTSTAMP:20260421T140503
CREATED:20240627T184841Z
LAST-MODIFIED:20250516T213728Z
UID:10003831-1747353600-1747439999@www.gesher-jds.org
SUMMARY:Lag B'Omer Field Day
DESCRIPTION:
URL:https://www.gesher-jds.org/event/lag-bomer-field-day-2/
END:VEVENT
BEGIN:VEVENT
DTSTART;VALUE=DATE:20250509
DTEND;VALUE=DATE:20250510
DTSTAMP:20260421T140503
CREATED:20240627T184830Z
LAST-MODIFIED:20250509T115052Z
UID:10003827-1746748800-1746835199@www.gesher-jds.org
SUMMARY:4th Grade Shabbat Siyum
DESCRIPTION:
URL:https://www.gesher-jds.org/event/4th-grade-shabbat-siyum/
END:VEVENT
BEGIN:VEVENT
DTSTART;VALUE=DATE:20250505
DTEND;VALUE=DATE:20250510
DTSTAMP:20260421T140503
CREATED:20240627T184829Z
LAST-MODIFIED:20250509T115052Z
UID:10003825-1746403200-1746835199@www.gesher-jds.org
SUMMARY:Teacher Appreciation Week
DESCRIPTION:
URL:https://www.gesher-jds.org/event/teacher-appreciation-week-8/
END:VEVENT
BEGIN:VEVENT
DTSTART;TZID=America/New_York:20250502T144500
DTEND;TZID=America/New_York:20250502T152000
DTSTAMP:20260421T140503
CREATED:20240827T135035Z
LAST-MODIFIED:20250501T220115Z
UID:10004783-1746197100-1746199200@www.gesher-jds.org
SUMMARY:Upper ES (2nd-5th) Kabbalat Shabbat
DESCRIPTION:
URL:https://www.gesher-jds.org/event/upper-es-kabbalat-shabbat-5/
END:VEVENT
BEGIN:VEVENT
DTSTART;VALUE=DATE:20250501
DTEND;VALUE=DATE:20250502
DTSTAMP:20260421T140503
CREATED:20240627T184829Z
LAST-MODIFIED:20250501T220115Z
UID:10003823-1746057600-1746143999@www.gesher-jds.org
SUMMARY:Happy Jewish Heritage Month!
DESCRIPTION:
URL:https://www.gesher-jds.org/event/happy-jewish-heritage-month/
END:VEVENT
BEGIN:VEVENT
DTSTART;VALUE=DATE:20250501
DTEND;VALUE=DATE:20250502
DTSTAMP:20260421T140503
CREATED:20240627T184829Z
LAST-MODIFIED:20250501T220115Z
UID:10004669-1746057600-1746143999@www.gesher-jds.org
SUMMARY:Yom Ha'atzmaut
DESCRIPTION:
URL:https://www.gesher-jds.org/event/yom-haatzmaut-4/
END:VEVENT
BEGIN:VEVENT
DTSTART;VALUE=DATE:20250430
DTEND;VALUE=DATE:20250501
DTSTAMP:20260421T140503
CREATED:20240627T184829Z
LAST-MODIFIED:20250430T213623Z
UID:10004668-1745971200-1746057599@www.gesher-jds.org
SUMMARY:Yom Hazikaron
DESCRIPTION:
URL:https://www.gesher-jds.org/event/yom-hazikaron-3/
END:VEVENT
BEGIN:VEVENT
DTSTART;TZID=America/New_York:20250425T144500
DTEND;TZID=America/New_York:20250425T152000
DTSTAMP:20260421T140503
CREATED:20240827T135034Z
LAST-MODIFIED:20250425T152109Z
UID:10004782-1745592300-1745594400@www.gesher-jds.org
SUMMARY:Elementary School Kabbalat Shabbat
DESCRIPTION:
URL:https://www.gesher-jds.org/event/lower-es-kabbalat-shabbat-5/
END:VEVENT
BEGIN:VEVENT
DTSTART;VALUE=DATE:20250424
DTEND;VALUE=DATE:20250425
DTSTAMP:20260421T140503
CREATED:20240627T184828Z
LAST-MODIFIED:20250424T140312Z
UID:10004667-1745452800-1745539199@www.gesher-jds.org
SUMMARY:Yom Hashoah
DESCRIPTION:
URL:https://www.gesher-jds.org/event/yom-hashoah-2/
END:VEVENT
BEGIN:VEVENT
DTSTART;VALUE=DATE:20250421
DTEND;VALUE=DATE:20250422
DTSTAMP:20260421T140503
CREATED:20240627T184828Z
LAST-MODIFIED:20250421T121812Z
UID:10004666-1745193600-1745279999@www.gesher-jds.org
SUMMARY:Mimouna
DESCRIPTION:
URL:https://www.gesher-jds.org/event/mimouna-3/
END:VEVENT
BEGIN:VEVENT
DTSTART;VALUE=DATE:20250411
DTEND;VALUE=DATE:20250421
DTSTAMP:20260421T140503
CREATED:20240627T184828Z
LAST-MODIFIED:20250420T113215Z
UID:10004665-1744329600-1745193599@www.gesher-jds.org
SUMMARY:No School - Passover Break
DESCRIPTION:
URL:https://www.gesher-jds.org/event/no-school-passover-break/
END:VEVENT
BEGIN:VEVENT
DTSTART;TZID=America/New_York:20250410T143000
DTEND;TZID=America/New_York:20250410T151500
DTSTAMP:20260421T140503
CREATED:20240827T135034Z
LAST-MODIFIED:20250410T190507Z
UID:10004781-1744295400-1744298100@www.gesher-jds.org
SUMMARY:All School Israel Sendoff
DESCRIPTION:
URL:https://www.gesher-jds.org/event/all-school-israel-sendoff/
END:VEVENT
BEGIN:VEVENT
DTSTART;VALUE=DATE:20250409
DTEND;VALUE=DATE:20250410
DTSTAMP:20260421T140503
CREATED:20240627T184817Z
LAST-MODIFIED:20250409T190410Z
UID:10004664-1744156800-1744243199@www.gesher-jds.org
SUMMARY:Gan Passover Siyum
DESCRIPTION:
URL:https://www.gesher-jds.org/event/gan-passover-siyum-3/
END:VEVENT
BEGIN:VEVENT
DTSTART;TZID=America/New_York:20250406T150000
DTEND;TZID=America/New_York:20250406T160000
DTSTAMP:20260421T140503
CREATED:20240627T184817Z
LAST-MODIFIED:20250406T184806Z
UID:10004663-1743951600-1743955200@www.gesher-jds.org
SUMMARY:Musical Performance
DESCRIPTION:
URL:https://www.gesher-jds.org/event/musical-performance-3/
END:VEVENT
BEGIN:VEVENT
DTSTART;TZID=America/New_York:20250403T180000
DTEND;TZID=America/New_York:20250403T190000
DTSTAMP:20260421T140503
CREATED:20240627T184817Z
LAST-MODIFIED:20250403T182001Z
UID:10004662-1743703200-1743706800@www.gesher-jds.org
SUMMARY:Musical Performance
DESCRIPTION:
URL:https://www.gesher-jds.org/event/musical-performance-2/
END:VEVENT
BEGIN:VEVENT
DTSTART;VALUE=DATE:20250402
DTEND;VALUE=DATE:20250403
DTSTAMP:20260421T140503
CREATED:20240627T184816Z
LAST-MODIFIED:20250402T180513Z
UID:10004661-1743552000-1743638399@www.gesher-jds.org
SUMMARY:Class Photos
DESCRIPTION:
URL:https://www.gesher-jds.org/event/class-photos-2/
END:VEVENT
BEGIN:VEVENT
DTSTART;TZID=America/New_York:20250401T154500
DTEND;TZID=America/New_York:20250401T173000
DTSTAMP:20260421T140503
CREATED:20250220T121751Z
LAST-MODIFIED:20250401T180410Z
UID:10005259-1743522300-1743528600@www.gesher-jds.org
SUMMARY:Musical Rehearsal
DESCRIPTION:
URL:https://www.gesher-jds.org/event/musical-rehearsal-153/
END:VEVENT
BEGIN:VEVENT
DTSTART;TZID=America/New_York:20250328T144500
DTEND;TZID=America/New_York:20250328T152000
DTSTAMP:20260421T140503
CREATED:20240827T135033Z
LAST-MODIFIED:20250328T173413Z
UID:10004780-1743173100-1743175200@www.gesher-jds.org
SUMMARY:All School Kabbalat Shabbat (Musical Preview)
DESCRIPTION:
URL:https://www.gesher-jds.org/event/all-school-kabbalat-shabbat-musical-preview/
END:VEVENT
BEGIN:VEVENT
DTSTART;TZID=America/New_York:20250327T154500
DTEND;TZID=America/New_York:20250327T170000
DTSTAMP:20260421T140503
CREATED:20250220T121750Z
LAST-MODIFIED:20250327T171914Z
UID:10005258-1743090300-1743094800@www.gesher-jds.org
SUMMARY:Musical Rehearsal
DESCRIPTION:
URL:https://www.gesher-jds.org/event/musical-rehearsal-152/
END:VEVENT
BEGIN:VEVENT
DTSTART;TZID=America/New_York:20250327T154500
DTEND;TZID=America/New_York:20250327T164500
DTSTAMP:20260421T140503
CREATED:20240801T230231Z
LAST-MODIFIED:20250219T120400Z
UID:10004702-1743090300-1743093900@www.gesher-jds.org
SUMMARY:Yearbook
DESCRIPTION:
URL:https://www.gesher-jds.org/event/yearbook-105/
END:VEVENT
BEGIN:VEVENT
DTSTART;TZID=America/New_York:20250326T154500
DTEND;TZID=America/New_York:20250326T170000
DTSTAMP:20260421T140503
CREATED:20241217T170419Z
LAST-MODIFIED:20250326T170559Z
UID:10005048-1743003900-1743008400@www.gesher-jds.org
SUMMARY:Musical Rehearsals
DESCRIPTION:
URL:https://www.gesher-jds.org/event/musical-rehearsals-240/
END:VEVENT
BEGIN:VEVENT
DTSTART;TZID=America/New_York:20250324T154500
DTEND;TZID=America/New_York:20250324T170000
DTSTAMP:20260421T140503
CREATED:20241217T170418Z
LAST-MODIFIED:20250324T164956Z
UID:10005047-1742831100-1742835600@www.gesher-jds.org
SUMMARY:Musical Rehearsals
DESCRIPTION:
URL:https://www.gesher-jds.org/event/musical-rehearsals-239/
END:VEVENT
BEGIN:VEVENT
DTSTART;VALUE=DATE:20250321
DTEND;VALUE=DATE:20250322
DTSTAMP:20260421T140503
CREATED:20240627T184816Z
LAST-MODIFIED:20250321T160634Z
UID:10004660-1742515200-1742601599@www.gesher-jds.org
SUMMARY:3:30 Dismissal Resumes
DESCRIPTION:
URL:https://www.gesher-jds.org/event/330-dismissal-resumes/
END:VEVENT
BEGIN:VEVENT
DTSTART;TZID=America/New_York:20250320T154500
DTEND;TZID=America/New_York:20250320T164500
DTSTAMP:20260421T140503
CREATED:20240801T230230Z
LAST-MODIFIED:20250320T160503Z
UID:10004701-1742485500-1742489100@www.gesher-jds.org
SUMMARY:Yearbook
DESCRIPTION:
URL:https://www.gesher-jds.org/event/yearbook-104/
END:VEVENT
BEGIN:VEVENT
DTSTART;TZID=America/New_York:20250319T154500
DTEND;TZID=America/New_York:20250319T170000
DTSTAMP:20260421T140503
CREATED:20241217T170406Z
LAST-MODIFIED:20250319T154907Z
UID:10005046-1742399100-1742403600@www.gesher-jds.org
SUMMARY:Musical Rehearsals
DESCRIPTION:
URL:https://www.gesher-jds.org/event/musical-rehearsals-238/
END:VEVENT
BEGIN:VEVENT
DTSTART;VALUE=DATE:20250317
DTEND;VALUE=DATE:20250319
DTSTAMP:20260421T140503
CREATED:20240627T184816Z
LAST-MODIFIED:20250318T153608Z
UID:10004659-1742169600-1742342399@www.gesher-jds.org
SUMMARY:No School - Parent/Teacher Conferences
DESCRIPTION:
URL:https://www.gesher-jds.org/event/no-school-parent-teacher-conferences-9/
END:VEVENT
BEGIN:VEVENT
DTSTART;TZID=America/New_York:20250314T120000
DTEND;TZID=America/New_York:20250314T133000
DTSTAMP:20260421T140503
CREATED:20240627T184804Z
LAST-MODIFIED:20250314T150535Z
UID:10003814-1741953600-1741959000@www.gesher-jds.org
SUMMARY:Middle School Purim Seudah & Social
DESCRIPTION:
URL:https://www.gesher-jds.org/event/middle-school-dance-4/
END:VEVENT
BEGIN:VEVENT
DTSTART;VALUE=DATE:20250314
DTEND;VALUE=DATE:20250315
DTSTAMP:20260421T140503
CREATED:20240627T184816Z
LAST-MODIFIED:20250314T150535Z
UID:10003816-1741910400-1741996799@www.gesher-jds.org
SUMMARY:Carnival & Megillah Reading
DESCRIPTION:
URL:https://www.gesher-jds.org/event/carnival-megillah-reading/
END:VEVENT
END:VCALENDAR