BEGIN:VCALENDAR
VERSION:2.0
PRODID:-//Gesher JDS - ECPv6.15.17//NONSGML v1.0//EN
CALSCALE:GREGORIAN
METHOD:PUBLISH
X-ORIGINAL-URL:https://www.gesher-jds.org
X-WR-CALDESC:Events for Gesher JDS
REFRESH-INTERVAL;VALUE=DURATION:PT1H
X-Robots-Tag:noindex
X-PUBLISHED-TTL:PT1H
BEGIN:VTIMEZONE
TZID:America/New_York
BEGIN:DAYLIGHT
TZOFFSETFROM:-0500
TZOFFSETTO:-0400
TZNAME:EDT
DTSTART:20250309T070000
END:DAYLIGHT
BEGIN:STANDARD
TZOFFSETFROM:-0400
TZOFFSETTO:-0500
TZNAME:EST
DTSTART:20251102T060000
END:STANDARD
BEGIN:DAYLIGHT
TZOFFSETFROM:-0500
TZOFFSETTO:-0400
TZNAME:EDT
DTSTART:20260308T070000
END:DAYLIGHT
BEGIN:STANDARD
TZOFFSETFROM:-0400
TZOFFSETTO:-0500
TZNAME:EST
DTSTART:20261101T060000
END:STANDARD
BEGIN:DAYLIGHT
TZOFFSETFROM:-0500
TZOFFSETTO:-0400
TZNAME:EDT
DTSTART:20270314T070000
END:DAYLIGHT
BEGIN:STANDARD
TZOFFSETFROM:-0400
TZOFFSETTO:-0500
TZNAME:EST
DTSTART:20271107T060000
END:STANDARD
END:VTIMEZONE
BEGIN:VEVENT
DTSTART;TZID=America/New_York:20260921T154500
DTEND;TZID=America/New_York:20260921T170000
DTSTAMP:20260422T230525
CREATED:20250103T193531Z
LAST-MODIFIED:20250224T124841Z
UID:10005204-1790005500-1790010000@www.gesher-jds.org
SUMMARY:Musical Rehearsals
DESCRIPTION:
URL:https://www.gesher-jds.org/event/musical-rehearsals-395/
END:VEVENT
BEGIN:VEVENT
DTSTART;TZID=America/New_York:20260923T154500
DTEND;TZID=America/New_York:20260923T170000
DTSTAMP:20260422T230525
CREATED:20250103T193531Z
LAST-MODIFIED:20250224T124841Z
UID:10005205-1790178300-1790182800@www.gesher-jds.org
SUMMARY:Musical Rehearsals
DESCRIPTION:
URL:https://www.gesher-jds.org/event/musical-rehearsals-396/
END:VEVENT
BEGIN:VEVENT
DTSTART;TZID=America/New_York:20260928T154500
DTEND;TZID=America/New_York:20260928T164500
DTSTAMP:20260422T230525
CREATED:20241002T200643Z
LAST-MODIFIED:20241106T114932Z
UID:10004871-1790610300-1790613900@www.gesher-jds.org
SUMMARY:Musical Rehearsals
DESCRIPTION:
URL:https://www.gesher-jds.org/event/musical-rehearsals-107/
END:VEVENT
BEGIN:VEVENT
DTSTART;TZID=America/New_York:20260928T154500
DTEND;TZID=America/New_York:20260928T164500
DTSTAMP:20260422T230525
CREATED:20250912T215535Z
LAST-MODIFIED:20251202T233323Z
UID:10005436-1790610300-1790613900@www.gesher-jds.org
SUMMARY:Musical Rehearsal
DESCRIPTION:
URL:https://www.gesher-jds.org/event/musical-rehearsal-205/
END:VEVENT
BEGIN:VEVENT
DTSTART;TZID=America/New_York:20260928T154500
DTEND;TZID=America/New_York:20260928T170000
DTSTAMP:20260422T230525
CREATED:20241107T115323Z
LAST-MODIFIED:20241216T170437Z
UID:10004981-1790610300-1790614800@www.gesher-jds.org
SUMMARY:Musical Rehearsals
DESCRIPTION:
URL:https://www.gesher-jds.org/event/musical-rehearsals-205/
END:VEVENT
BEGIN:VEVENT
DTSTART;TZID=America/New_York:20260928T154500
DTEND;TZID=America/New_York:20260928T170000
DTSTAMP:20260422T230525
CREATED:20250103T193531Z
LAST-MODIFIED:20250224T124842Z
UID:10005206-1790610300-1790614800@www.gesher-jds.org
SUMMARY:Musical Rehearsals
DESCRIPTION:
URL:https://www.gesher-jds.org/event/musical-rehearsals-397/
END:VEVENT
BEGIN:VEVENT
DTSTART;TZID=America/New_York:20260930T154500
DTEND;TZID=America/New_York:20260930T170000
DTSTAMP:20260422T230525
CREATED:20250103T193532Z
LAST-MODIFIED:20250224T124842Z
UID:10005207-1790783100-1790787600@www.gesher-jds.org
SUMMARY:Musical Rehearsals
DESCRIPTION:
URL:https://www.gesher-jds.org/event/musical-rehearsals-398/
END:VEVENT
BEGIN:VEVENT
DTSTART;TZID=America/New_York:20261001T154500
DTEND;TZID=America/New_York:20261001T164500
DTSTAMP:20260422T230525
CREATED:20241002T200644Z
LAST-MODIFIED:20241216T170438Z
UID:10004872-1790869500-1790873100@www.gesher-jds.org
SUMMARY:Yearbook
DESCRIPTION:
URL:https://www.gesher-jds.org/event/yearbook-184/
END:VEVENT
BEGIN:VEVENT
DTSTART;TZID=America/New_York:20261005T154500
DTEND;TZID=America/New_York:20261005T164500
DTSTAMP:20260422T230525
CREATED:20241005T205059Z
LAST-MODIFIED:20241106T114933Z
UID:10004873-1791215100-1791218700@www.gesher-jds.org
SUMMARY:Musical Rehearsals
DESCRIPTION:
URL:https://www.gesher-jds.org/event/musical-rehearsals-108/
END:VEVENT
BEGIN:VEVENT
DTSTART;TZID=America/New_York:20261005T154500
DTEND;TZID=America/New_York:20261005T164500
DTSTAMP:20260422T230525
CREATED:20250912T215535Z
LAST-MODIFIED:20251202T233323Z
UID:10005437-1791215100-1791218700@www.gesher-jds.org
SUMMARY:Musical Rehearsal
DESCRIPTION:
URL:https://www.gesher-jds.org/event/musical-rehearsal-206/
END:VEVENT
BEGIN:VEVENT
DTSTART;TZID=America/New_York:20261005T154500
DTEND;TZID=America/New_York:20261005T170000
DTSTAMP:20260422T230525
CREATED:20241107T115323Z
LAST-MODIFIED:20241216T170438Z
UID:10004982-1791215100-1791219600@www.gesher-jds.org
SUMMARY:Musical Rehearsals
DESCRIPTION:
URL:https://www.gesher-jds.org/event/musical-rehearsals-206/
END:VEVENT
BEGIN:VEVENT
DTSTART;TZID=America/New_York:20261005T154500
DTEND;TZID=America/New_York:20261005T170000
DTSTAMP:20260422T230525
CREATED:20250103T193532Z
LAST-MODIFIED:20250224T124842Z
UID:10005208-1791215100-1791219600@www.gesher-jds.org
SUMMARY:Musical Rehearsals
DESCRIPTION:
URL:https://www.gesher-jds.org/event/musical-rehearsals-399/
END:VEVENT
BEGIN:VEVENT
DTSTART;TZID=America/New_York:20261007T154500
DTEND;TZID=America/New_York:20261007T170000
DTSTAMP:20260422T230525
CREATED:20250103T193532Z
LAST-MODIFIED:20250224T124842Z
UID:10005209-1791387900-1791392400@www.gesher-jds.org
SUMMARY:Musical Rehearsals
DESCRIPTION:
URL:https://www.gesher-jds.org/event/musical-rehearsals-400/
END:VEVENT
BEGIN:VEVENT
DTSTART;TZID=America/New_York:20261008T154500
DTEND;TZID=America/New_York:20261008T164500
DTSTAMP:20260422T230525
CREATED:20241008T212155Z
LAST-MODIFIED:20241216T170438Z
UID:10004875-1791474300-1791477900@www.gesher-jds.org
SUMMARY:Yearbook
DESCRIPTION:
URL:https://www.gesher-jds.org/event/yearbook-185/
END:VEVENT
BEGIN:VEVENT
DTSTART;TZID=America/New_York:20261012T154500
DTEND;TZID=America/New_York:20261012T164500
DTSTAMP:20260422T230525
CREATED:20241012T220500Z
LAST-MODIFIED:20241106T114933Z
UID:10004876-1791819900-1791823500@www.gesher-jds.org
SUMMARY:Musical Rehearsals
DESCRIPTION:
URL:https://www.gesher-jds.org/event/musical-rehearsals-109/
END:VEVENT
BEGIN:VEVENT
DTSTART;TZID=America/New_York:20261012T154500
DTEND;TZID=America/New_York:20261012T164500
DTSTAMP:20260422T230526
CREATED:20250912T215535Z
LAST-MODIFIED:20251202T233323Z
UID:10005438-1791819900-1791823500@www.gesher-jds.org
SUMMARY:Musical Rehearsal
DESCRIPTION:
URL:https://www.gesher-jds.org/event/musical-rehearsal-207/
END:VEVENT
BEGIN:VEVENT
DTSTART;TZID=America/New_York:20261012T154500
DTEND;TZID=America/New_York:20261012T170000
DTSTAMP:20260422T230526
CREATED:20241107T115324Z
LAST-MODIFIED:20241216T170438Z
UID:10004983-1791819900-1791824400@www.gesher-jds.org
SUMMARY:Musical Rehearsals
DESCRIPTION:
URL:https://www.gesher-jds.org/event/musical-rehearsals-207/
END:VEVENT
BEGIN:VEVENT
DTSTART;TZID=America/New_York:20261012T154500
DTEND;TZID=America/New_York:20261012T170000
DTSTAMP:20260422T230526
CREATED:20250103T193532Z
LAST-MODIFIED:20250224T124842Z
UID:10005210-1791819900-1791824400@www.gesher-jds.org
SUMMARY:Musical Rehearsals
DESCRIPTION:
URL:https://www.gesher-jds.org/event/musical-rehearsals-401/
END:VEVENT
BEGIN:VEVENT
DTSTART;TZID=America/New_York:20261014T154500
DTEND;TZID=America/New_York:20261014T170000
DTSTAMP:20260422T230526
CREATED:20250103T193533Z
LAST-MODIFIED:20250224T124842Z
UID:10005211-1791992700-1791997200@www.gesher-jds.org
SUMMARY:Musical Rehearsals
DESCRIPTION:
URL:https://www.gesher-jds.org/event/musical-rehearsals-402/
END:VEVENT
BEGIN:VEVENT
DTSTART;TZID=America/New_York:20261015T154500
DTEND;TZID=America/New_York:20261015T164500
DTSTAMP:20260422T230526
CREATED:20241015T222421Z
LAST-MODIFIED:20241216T170438Z
UID:10004877-1792079100-1792082700@www.gesher-jds.org
SUMMARY:Yearbook
DESCRIPTION:
URL:https://www.gesher-jds.org/event/yearbook-186/
END:VEVENT
BEGIN:VEVENT
DTSTART;TZID=America/New_York:20261019T154500
DTEND;TZID=America/New_York:20261019T164500
DTSTAMP:20260422T230526
CREATED:20241019T225055Z
LAST-MODIFIED:20241106T114933Z
UID:10004880-1792424700-1792428300@www.gesher-jds.org
SUMMARY:Musical Rehearsals
DESCRIPTION:
URL:https://www.gesher-jds.org/event/musical-rehearsals-110/
END:VEVENT
BEGIN:VEVENT
DTSTART;TZID=America/New_York:20261019T154500
DTEND;TZID=America/New_York:20261019T164500
DTSTAMP:20260422T230526
CREATED:20250912T215535Z
LAST-MODIFIED:20251202T233324Z
UID:10005439-1792424700-1792428300@www.gesher-jds.org
SUMMARY:Musical Rehearsal
DESCRIPTION:
URL:https://www.gesher-jds.org/event/musical-rehearsal-208/
END:VEVENT
BEGIN:VEVENT
DTSTART;TZID=America/New_York:20261019T154500
DTEND;TZID=America/New_York:20261019T170000
DTSTAMP:20260422T230526
CREATED:20241107T115324Z
LAST-MODIFIED:20241216T170438Z
UID:10004984-1792424700-1792429200@www.gesher-jds.org
SUMMARY:Musical Rehearsals
DESCRIPTION:
URL:https://www.gesher-jds.org/event/musical-rehearsals-208/
END:VEVENT
BEGIN:VEVENT
DTSTART;TZID=America/New_York:20261019T154500
DTEND;TZID=America/New_York:20261019T170000
DTSTAMP:20260422T230526
CREATED:20250103T193533Z
LAST-MODIFIED:20250224T124842Z
UID:10005212-1792424700-1792429200@www.gesher-jds.org
SUMMARY:Musical Rehearsals
DESCRIPTION:
URL:https://www.gesher-jds.org/event/musical-rehearsals-403/
END:VEVENT
BEGIN:VEVENT
DTSTART;TZID=America/New_York:20261021T154500
DTEND;TZID=America/New_York:20261021T170000
DTSTAMP:20260422T230526
CREATED:20250103T193533Z
LAST-MODIFIED:20250224T124843Z
UID:10005213-1792597500-1792602000@www.gesher-jds.org
SUMMARY:Musical Rehearsals
DESCRIPTION:
URL:https://www.gesher-jds.org/event/musical-rehearsals-404/
END:VEVENT
BEGIN:VEVENT
DTSTART;TZID=America/New_York:20261022T154500
DTEND;TZID=America/New_York:20261022T164500
DTSTAMP:20260422T230526
CREATED:20241022T230549Z
LAST-MODIFIED:20241216T170438Z
UID:10004881-1792683900-1792687500@www.gesher-jds.org
SUMMARY:Yearbook
DESCRIPTION:
URL:https://www.gesher-jds.org/event/yearbook-187/
END:VEVENT
BEGIN:VEVENT
DTSTART;TZID=America/New_York:20261026T154500
DTEND;TZID=America/New_York:20261026T164500
DTSTAMP:20260422T230526
CREATED:20241026T233400Z
LAST-MODIFIED:20241106T114933Z
UID:10004883-1793029500-1793033100@www.gesher-jds.org
SUMMARY:Musical Rehearsals
DESCRIPTION:
URL:https://www.gesher-jds.org/event/musical-rehearsals-111/
END:VEVENT
BEGIN:VEVENT
DTSTART;TZID=America/New_York:20261026T154500
DTEND;TZID=America/New_York:20261026T164500
DTSTAMP:20260422T230526
CREATED:20250912T215535Z
LAST-MODIFIED:20251202T233324Z
UID:10005440-1793029500-1793033100@www.gesher-jds.org
SUMMARY:Musical Rehearsal
DESCRIPTION:
URL:https://www.gesher-jds.org/event/musical-rehearsal-209/
END:VEVENT
BEGIN:VEVENT
DTSTART;TZID=America/New_York:20261026T154500
DTEND;TZID=America/New_York:20261026T170000
DTSTAMP:20260422T230526
CREATED:20241107T115325Z
LAST-MODIFIED:20241216T170438Z
UID:10004954-1793029500-1793034000@www.gesher-jds.org
SUMMARY:Musical Rehearsals
DESCRIPTION:
URL:https://www.gesher-jds.org/event/musical-rehearsals-209/
END:VEVENT
BEGIN:VEVENT
DTSTART;TZID=America/New_York:20261026T154500
DTEND;TZID=America/New_York:20261026T170000
DTSTAMP:20260422T230526
CREATED:20250103T193534Z
LAST-MODIFIED:20250224T124843Z
UID:10005214-1793029500-1793034000@www.gesher-jds.org
SUMMARY:Musical Rehearsals
DESCRIPTION:
URL:https://www.gesher-jds.org/event/musical-rehearsals-405/
END:VEVENT
END:VCALENDAR