BEGIN:VCALENDAR
VERSION:2.0
PRODID:-//Gesher JDS - ECPv6.15.17//NONSGML v1.0//EN
CALSCALE:GREGORIAN
METHOD:PUBLISH
X-WR-CALNAME:Gesher JDS
X-ORIGINAL-URL:https://www.gesher-jds.org
X-WR-CALDESC:Events for Gesher JDS
REFRESH-INTERVAL;VALUE=DURATION:PT1H
X-Robots-Tag:noindex
X-PUBLISHED-TTL:PT1H
BEGIN:VTIMEZONE
TZID:America/New_York
BEGIN:DAYLIGHT
TZOFFSETFROM:-0500
TZOFFSETTO:-0400
TZNAME:EDT
DTSTART:20200308T070000
END:DAYLIGHT
BEGIN:STANDARD
TZOFFSETFROM:-0400
TZOFFSETTO:-0500
TZNAME:EST
DTSTART:20201101T060000
END:STANDARD
BEGIN:DAYLIGHT
TZOFFSETFROM:-0500
TZOFFSETTO:-0400
TZNAME:EDT
DTSTART:20210314T070000
END:DAYLIGHT
BEGIN:STANDARD
TZOFFSETFROM:-0400
TZOFFSETTO:-0500
TZNAME:EST
DTSTART:20211107T060000
END:STANDARD
BEGIN:DAYLIGHT
TZOFFSETFROM:-0500
TZOFFSETTO:-0400
TZNAME:EDT
DTSTART:20220313T070000
END:DAYLIGHT
BEGIN:STANDARD
TZOFFSETFROM:-0400
TZOFFSETTO:-0500
TZNAME:EST
DTSTART:20221106T060000
END:STANDARD
END:VTIMEZONE
BEGIN:VEVENT
DTSTART;VALUE=DATE:20211130
DTEND;VALUE=DATE:20211201
DTSTAMP:20260420T063311
CREATED:20211028T140913Z
LAST-MODIFIED:20211125T142931Z
UID:10003178-1638230400-1638316799@www.gesher-jds.org
SUMMARY:Giving Tuesday
DESCRIPTION:
URL:https://www.gesher-jds.org/event/giving-tuesday-3/
END:VEVENT
BEGIN:VEVENT
DTSTART;TZID=America/New_York:20211130T081500
DTEND;TZID=America/New_York:20211130T090000
DTSTAMP:20260420T063311
CREATED:20211028T140913Z
LAST-MODIFIED:20211125T142931Z
UID:10003180-1638260100-1638262800@www.gesher-jds.org
SUMMARY:Parent Coffee Social at Drop-Off
DESCRIPTION:
URL:https://www.gesher-jds.org/event/parent-coffee-social-at-drop-off/
END:VEVENT
BEGIN:VEVENT
DTSTART;VALUE=DATE:20211201
DTEND;VALUE=DATE:20211202
DTSTAMP:20260420T063311
CREATED:20211028T140913Z
LAST-MODIFIED:20211125T142931Z
UID:10003181-1638316800-1638403199@www.gesher-jds.org
SUMMARY:Thank You Wednesday
DESCRIPTION:
URL:https://www.gesher-jds.org/event/thank-you-wednesday/
END:VEVENT
BEGIN:VEVENT
DTSTART;TZID=America/New_York:20211201T183000
DTEND;TZID=America/New_York:20211201T200000
DTSTAMP:20260420T063311
CREATED:20211028T140913Z
LAST-MODIFIED:20211125T142931Z
UID:10003182-1638383400-1638388800@www.gesher-jds.org
SUMMARY:Thank You Wednesday Happy Hour
DESCRIPTION:
URL:https://www.gesher-jds.org/event/thank-you-wednesday-happy-hour/
LOCATION:Caboose
END:VEVENT
BEGIN:VEVENT
DTSTART;TZID=America/New_York:20211202T083000
DTEND;TZID=America/New_York:20211202T091500
DTSTAMP:20260420T063311
CREATED:20211111T141257Z
LAST-MODIFIED:20211125T142931Z
UID:10002847-1638433800-1638436500@www.gesher-jds.org
SUMMARY:Weekly Torah Service (Zoom if needed)
DESCRIPTION:Gesher JDS is inviting you to a scheduled Zoom meeting.\nJoin Zoom Meeting\nhttps://us06web.zoom.us/j/82784347977?pwd=VVI2akczNGJnQytKYSs1SkhETVF4Zz09\nMeeting ID: 827 8434 7977\nPasscode: torah\nOne tap mobile\n+13017158592\,\,82784347977#\,\,\,\,*571111# US (Washington DC)\n+16465588656\,\,82784347977#\,\,\,\,*571111# US (New York)\nDial by your location\n        +1 301 715 8592 US (Washington DC)\n        +1 646 558 8656 US (New York)\n        +1 312 626 6799 US (Chicago)\n        +1 253 215 8782 US (Tacoma)\n        +1 346 248 7799 US (Houston)\n        +1 720 707 2699 US (Denver)\nMeeting ID: 827 8434 7977\nPasscode: 571111\nFind your local number: https://us06web.zoom.us/u/kxQYwmYXA
URL:https://www.gesher-jds.org/event/weekly-torah-service-zoom-if-needed-3/
LOCATION:https://us06web.zoom.us/j/82784347977?pwd=VVI2akczNGJnQytKYSs1SkhETVF4Zz09
END:VEVENT
BEGIN:VEVENT
DTSTART;TZID=America/New_York:20211202T130000
DTEND;TZID=America/New_York:20211202T150000
DTSTAMP:20260420T063311
CREATED:20211022T150134Z
LAST-MODIFIED:20211202T144148Z
UID:10002975-1638450000-1638457200@www.gesher-jds.org
SUMMARY:Covid Testing
DESCRIPTION:
URL:https://www.gesher-jds.org/event/covid-testing-6/
END:VEVENT
BEGIN:VEVENT
DTSTART;TZID=America/New_York:20211202T150000
DTEND;TZID=America/New_York:20211202T153000
DTSTAMP:20260420T063311
CREATED:20211111T141257Z
LAST-MODIFIED:20211202T144148Z
UID:10002849-1638457200-1638459000@www.gesher-jds.org
SUMMARY:Alex Nissan's Bar Mitzvah
DESCRIPTION:
URL:https://www.gesher-jds.org/event/alex-nissans-bar-mitzvah/
END:VEVENT
BEGIN:VEVENT
DTSTART;TZID=America/New_York:20211203T140500
DTEND;TZID=America/New_York:20211203T143500
DTSTAMP:20260420T063311
CREATED:20211028T140913Z
LAST-MODIFIED:20211202T144148Z
UID:10003186-1638540300-1638542100@www.gesher-jds.org
SUMMARY:All School Kabbalat Shabbat
DESCRIPTION:
URL:https://www.gesher-jds.org/event/all-school-kabbalat-shabbat-3/
END:VEVENT
BEGIN:VEVENT
DTSTART;TZID=America/New_York:20211203T144500
DTEND;TZID=America/New_York:20211203T150000
DTSTAMP:20260420T063311
CREATED:20211022T150134Z
LAST-MODIFIED:20211202T144148Z
UID:10002980-1638542700-1638543600@www.gesher-jds.org
SUMMARY:Friday Early Dismissal 2:45
DESCRIPTION:
URL:https://www.gesher-jds.org/event/friday-early-dismissal-245-3/
END:VEVENT
END:VCALENDAR