BEGIN:VCALENDAR
VERSION:2.0
PRODID:-//Gesher JDS - ECPv6.15.17//NONSGML v1.0//EN
CALSCALE:GREGORIAN
METHOD:PUBLISH
X-ORIGINAL-URL:https://www.gesher-jds.org
X-WR-CALDESC:Events for Gesher JDS
REFRESH-INTERVAL;VALUE=DURATION:PT1H
X-Robots-Tag:noindex
X-PUBLISHED-TTL:PT1H
BEGIN:VTIMEZONE
TZID:America/New_York
BEGIN:DAYLIGHT
TZOFFSETFROM:-0500
TZOFFSETTO:-0400
TZNAME:EDT
DTSTART:20210314T070000
END:DAYLIGHT
BEGIN:STANDARD
TZOFFSETFROM:-0400
TZOFFSETTO:-0500
TZNAME:EST
DTSTART:20211107T060000
END:STANDARD
BEGIN:DAYLIGHT
TZOFFSETFROM:-0500
TZOFFSETTO:-0400
TZNAME:EDT
DTSTART:20220313T070000
END:DAYLIGHT
BEGIN:STANDARD
TZOFFSETFROM:-0400
TZOFFSETTO:-0500
TZNAME:EST
DTSTART:20221106T060000
END:STANDARD
BEGIN:DAYLIGHT
TZOFFSETFROM:-0500
TZOFFSETTO:-0400
TZNAME:EDT
DTSTART:20230312T070000
END:DAYLIGHT
BEGIN:STANDARD
TZOFFSETFROM:-0400
TZOFFSETTO:-0500
TZNAME:EST
DTSTART:20231105T060000
END:STANDARD
END:VTIMEZONE
BEGIN:VEVENT
DTSTART;VALUE=DATE:20220530
DTEND;VALUE=DATE:20220531
DTSTAMP:20260421T161430
CREATED:20211022T150141Z
LAST-MODIFIED:20220530T201519Z
UID:10003043-1653868800-1653955199@www.gesher-jds.org
SUMMARY:NO SCHOOL - Memorial Day
DESCRIPTION:
URL:https://www.gesher-jds.org/event/no-school-memorial-day-3/
END:VEVENT
BEGIN:VEVENT
DTSTART;TZID=America/New_York:20220531T083000
DTEND;TZID=America/New_York:20220531T095000
DTSTAMP:20260421T161430
CREATED:20211216T145649Z
LAST-MODIFIED:20220530T201520Z
UID:10003424-1653985800-1653990600@www.gesher-jds.org
SUMMARY:Hallel Siyum 4th Grade - Rosh Hodesh Sivan
DESCRIPTION:
URL:https://www.gesher-jds.org/event/hallel-siyum-4th-grade-rosh-hodesh-sivan/
END:VEVENT
BEGIN:VEVENT
DTSTART;TZID=America/New_York:20220601T130000
DTEND;TZID=America/New_York:20220601T150000
DTSTAMP:20260421T161430
CREATED:20211022T150141Z
LAST-MODIFIED:20220531T201643Z
UID:10003045-1654088400-1654095600@www.gesher-jds.org
SUMMARY:Covid Testing
DESCRIPTION:
URL:https://www.gesher-jds.org/event/covid-testing-32/
END:VEVENT
BEGIN:VEVENT
DTSTART;TZID=America/New_York:20220602T083000
DTEND;TZID=America/New_York:20220602T091500
DTSTAMP:20260421T161430
CREATED:20211111T141313Z
LAST-MODIFIED:20220601T203007Z
UID:10002861-1654158600-1654161300@www.gesher-jds.org
SUMMARY:Weekly Torah Service (Zoom if needed)
DESCRIPTION:Gesher JDS is inviting you to a scheduled Zoom meeting.\nJoin Zoom Meeting\nhttps://us06web.zoom.us/j/82784347977?pwd=VVI2akczNGJnQytKYSs1SkhETVF4Zz09\nMeeting ID: 827 8434 7977\nPasscode: torah\nOne tap mobile\n+13017158592\,\,82784347977#\,\,\,\,*571111# US (Washington DC)\n+16465588656\,\,82784347977#\,\,\,\,*571111# US (New York)\nDial by your location\n        +1 301 715 8592 US (Washington DC)\n        +1 646 558 8656 US (New York)\n        +1 312 626 6799 US (Chicago)\n        +1 253 215 8782 US (Tacoma)\n        +1 346 248 7799 US (Houston)\n        +1 720 707 2699 US (Denver)\nMeeting ID: 827 8434 7977\nPasscode: 571111\nFind your local number: https://us06web.zoom.us/u/kxQYwmYXA
URL:https://www.gesher-jds.org/event/weekly-torah-service-zoom-if-needed-29/
LOCATION:https://us06web.zoom.us/j/82784347977?pwd=VVI2akczNGJnQytKYSs1SkhETVF4Zz09
END:VEVENT
BEGIN:VEVENT
DTSTART;VALUE=DATE:20220603
DTEND;VALUE=DATE:20220604
DTSTAMP:20260421T161430
CREATED:20220523T191144Z
LAST-MODIFIED:20220523T191144Z
UID:10002968-1654214400-1654300799@www.gesher-jds.org
SUMMARY:2nd grade Torah Siyum
DESCRIPTION:
URL:https://www.gesher-jds.org/event/2nd-grade-torah-siyum-5/
END:VEVENT
BEGIN:VEVENT
DTSTART;VALUE=DATE:20220603
DTEND;VALUE=DATE:20220604
DTSTAMP:20260421T161430
CREATED:20220523T191144Z
LAST-MODIFIED:20220603T203009Z
UID:10003602-1654214400-1654300799@www.gesher-jds.org
SUMMARY:2nd grade Torah Siyum
DESCRIPTION:
URL:https://www.gesher-jds.org/event/2nd-grade-torah-siyum-4/
END:VEVENT
BEGIN:VEVENT
DTSTART;TZID=America/New_York:20220603T083000
DTEND;TZID=America/New_York:20220603T100000
DTSTAMP:20260421T161430
CREATED:20220523T191144Z
LAST-MODIFIED:20220523T191144Z
UID:10003598-1654245000-1654250400@www.gesher-jds.org
SUMMARY:2nd Grade Torah Siyum
DESCRIPTION:
URL:https://www.gesher-jds.org/event/2nd-grade-torah-siyum-2/
END:VEVENT
BEGIN:VEVENT
DTSTART;TZID=America/New_York:20220603T083000
DTEND;TZID=America/New_York:20220603T100000
DTSTAMP:20260421T161430
CREATED:20220523T191144Z
LAST-MODIFIED:20220602T203010Z
UID:10003600-1654245000-1654250400@www.gesher-jds.org
SUMMARY:2nd Grade Torah Siyum
DESCRIPTION:
URL:https://www.gesher-jds.org/event/2nd-grade-torah-siyum-3/
END:VEVENT
BEGIN:VEVENT
DTSTART;TZID=America/New_York:20220603T145000
DTEND;TZID=America/New_York:20220603T152000
DTSTAMP:20260421T161430
CREATED:20220411T172703Z
LAST-MODIFIED:20220602T203010Z
UID:10003564-1654267800-1654269600@www.gesher-jds.org
SUMMARY:Last Kabbalat Shabbat - Elementary School
DESCRIPTION:Link for Parts Assignments: https://forms.gle/ezcG6mh1MpxL6az59
URL:https://www.gesher-jds.org/event/last-kabbalat-shabbat-elementary-school/
END:VEVENT
END:VCALENDAR