BEGIN:VCALENDAR
VERSION:2.0
PRODID:-//Gesher JDS - ECPv6.15.17//NONSGML v1.0//EN
CALSCALE:GREGORIAN
METHOD:PUBLISH
X-ORIGINAL-URL:https://www.gesher-jds.org
X-WR-CALDESC:Events for Gesher JDS
REFRESH-INTERVAL;VALUE=DURATION:PT1H
X-Robots-Tag:noindex
X-PUBLISHED-TTL:PT1H
BEGIN:VTIMEZONE
TZID:America/New_York
BEGIN:DAYLIGHT
TZOFFSETFROM:-0500
TZOFFSETTO:-0400
TZNAME:EDT
DTSTART:20210314T070000
END:DAYLIGHT
BEGIN:STANDARD
TZOFFSETFROM:-0400
TZOFFSETTO:-0500
TZNAME:EST
DTSTART:20211107T060000
END:STANDARD
BEGIN:DAYLIGHT
TZOFFSETFROM:-0500
TZOFFSETTO:-0400
TZNAME:EDT
DTSTART:20220313T070000
END:DAYLIGHT
BEGIN:STANDARD
TZOFFSETFROM:-0400
TZOFFSETTO:-0500
TZNAME:EST
DTSTART:20221106T060000
END:STANDARD
BEGIN:DAYLIGHT
TZOFFSETFROM:-0500
TZOFFSETTO:-0400
TZNAME:EDT
DTSTART:20230312T070000
END:DAYLIGHT
BEGIN:STANDARD
TZOFFSETFROM:-0400
TZOFFSETTO:-0500
TZNAME:EST
DTSTART:20231105T060000
END:STANDARD
END:VTIMEZONE
BEGIN:VEVENT
DTSTART;TZID=America/New_York:20221113T130000
DTEND;TZID=America/New_York:20221113T143000
DTSTAMP:20260420T212308
CREATED:20221012T183012Z
LAST-MODIFIED:20221016T190032Z
UID:10003187-1668344400-1668349800@www.gesher-jds.org
SUMMARY:Gan Play Date
DESCRIPTION:
URL:https://www.gesher-jds.org/event/gan-play-date-2/
END:VEVENT
BEGIN:VEVENT
DTSTART;TZID=America/New_York:20221113T150000
DTEND;TZID=America/New_York:20221113T163000
DTSTAMP:20260420T212308
CREATED:20220806T124533Z
LAST-MODIFIED:20221016T190033Z
UID:10003076-1668351600-1668357000@www.gesher-jds.org
SUMMARY:3rd Grade Play Date
DESCRIPTION:
URL:https://www.gesher-jds.org/event/3rd-grade-play-date/
END:VEVENT
BEGIN:VEVENT
DTSTART;TZID=America/New_York:20221115T090000
DTEND;TZID=America/New_York:20221115T094500
DTSTAMP:20260420T212308
CREATED:20220831T154515Z
LAST-MODIFIED:20221109T175653Z
UID:10003165-1668502800-1668505500@www.gesher-jds.org
SUMMARY:Coffee with Aviva
DESCRIPTION:Sign up here: https://www.signupgenius.com/go/10c0e4aa4af2fa1ffc70-coffee
URL:https://www.gesher-jds.org/event/coffee-with-aviva-2/
END:VEVENT
BEGIN:VEVENT
DTSTART;TZID=America/New_York:20221115T130000
DTEND;TZID=America/New_York:20221115T150000
DTSTAMP:20260420T212308
CREATED:20220723T111820Z
LAST-MODIFIED:20221016T190033Z
UID:10003656-1668517200-1668524400@www.gesher-jds.org
SUMMARY:Covid Testing
DESCRIPTION:
URL:https://www.gesher-jds.org/event/covid-testing-134/
END:VEVENT
BEGIN:VEVENT
DTSTART;VALUE=DATE:20221118
DTEND;VALUE=DATE:20221119
DTSTAMP:20260420T212308
CREATED:20220628T230032Z
LAST-MODIFIED:20221016T190033Z
UID:10003622-1668729600-1668815999@www.gesher-jds.org
SUMMARY:Friday 2:45 Dismissal Begins
DESCRIPTION:
URL:https://www.gesher-jds.org/event/friday-245-dismissal-begins/
END:VEVENT
BEGIN:VEVENT
DTSTART;VALUE=DATE:20221118
DTEND;VALUE=DATE:20221119
DTSTAMP:20260420T212308
CREATED:20220810T133025Z
LAST-MODIFIED:20221016T190033Z
UID:10003870-1668729600-1668815999@www.gesher-jds.org
SUMMARY:On Fridays We Wear Purple
DESCRIPTION:
URL:https://www.gesher-jds.org/event/on-we-wear-purple-12/
END:VEVENT
BEGIN:VEVENT
DTSTART;TZID=America/New_York:20221118T140500
DTEND;TZID=America/New_York:20221118T143500
DTSTAMP:20260420T212308
CREATED:20220830T153038Z
LAST-MODIFIED:20221016T190033Z
UID:10004008-1668780300-1668782100@www.gesher-jds.org
SUMMARY:Kabbalat Shabbat - ALL SCHOOL - pre Thanksgiving
DESCRIPTION:
URL:https://www.gesher-jds.org/event/kabbalat-shabbat-all-school-pre-thanksgiving/
END:VEVENT
END:VCALENDAR