BEGIN:VCALENDAR
VERSION:2.0
PRODID:-//Gesher JDS - ECPv6.15.17//NONSGML v1.0//EN
CALSCALE:GREGORIAN
METHOD:PUBLISH
X-ORIGINAL-URL:https://www.gesher-jds.org
X-WR-CALDESC:Events for Gesher JDS
REFRESH-INTERVAL;VALUE=DURATION:PT1H
X-Robots-Tag:noindex
X-PUBLISHED-TTL:PT1H
BEGIN:VTIMEZONE
TZID:America/New_York
BEGIN:DAYLIGHT
TZOFFSETFROM:-0500
TZOFFSETTO:-0400
TZNAME:EDT
DTSTART:20220313T070000
END:DAYLIGHT
BEGIN:STANDARD
TZOFFSETFROM:-0400
TZOFFSETTO:-0500
TZNAME:EST
DTSTART:20221106T060000
END:STANDARD
BEGIN:DAYLIGHT
TZOFFSETFROM:-0500
TZOFFSETTO:-0400
TZNAME:EDT
DTSTART:20230312T070000
END:DAYLIGHT
BEGIN:STANDARD
TZOFFSETFROM:-0400
TZOFFSETTO:-0500
TZNAME:EST
DTSTART:20231105T060000
END:STANDARD
BEGIN:DAYLIGHT
TZOFFSETFROM:-0500
TZOFFSETTO:-0400
TZNAME:EDT
DTSTART:20240310T070000
END:DAYLIGHT
BEGIN:STANDARD
TZOFFSETFROM:-0400
TZOFFSETTO:-0500
TZNAME:EST
DTSTART:20241103T060000
END:STANDARD
END:VTIMEZONE
BEGIN:VEVENT
DTSTART;VALUE=DATE:20230220
DTEND;VALUE=DATE:20230221
DTSTAMP:20260422T111653
CREATED:20220113T151252Z
LAST-MODIFIED:20230220T183033Z
UID:10003471-1676851200-1676937599@www.gesher-jds.org
SUMMARY:No School - President's Day
DESCRIPTION:
URL:https://www.gesher-jds.org/event/no-school-presidents-day-4/
END:VEVENT
BEGIN:VEVENT
DTSTART;TZID=America/New_York:20230221T130000
DTEND;TZID=America/New_York:20230221T150000
DTSTAMP:20260422T111653
CREATED:20220723T111824Z
LAST-MODIFIED:20230221T183013Z
UID:10003681-1676984400-1676991600@www.gesher-jds.org
SUMMARY:Covid Testing
DESCRIPTION:
URL:https://www.gesher-jds.org/event/covid-testing-148/
END:VEVENT
BEGIN:VEVENT
DTSTART;TZID=America/New_York:20230221T154500
DTEND;TZID=America/New_York:20230221T173000
DTSTAMP:20260422T111653
CREATED:20221220T144510Z
LAST-MODIFIED:20230221T183013Z
UID:10003251-1676994300-1677000600@www.gesher-jds.org
SUMMARY:Musical Rehearsal
DESCRIPTION:
URL:https://www.gesher-jds.org/event/musical-rehearsal-22/
END:VEVENT
BEGIN:VEVENT
DTSTART;TZID=America/New_York:20230222T154500
DTEND;TZID=America/New_York:20230222T170000
DTSTAMP:20260422T111653
CREATED:20221219T130251Z
LAST-MODIFIED:20221219T144625Z
UID:10004045-1677080700-1677085200@www.gesher-jds.org
SUMMARY:Musical Rehearsal
DESCRIPTION:
URL:https://www.gesher-jds.org/event/musical-rehearsal-9/
END:VEVENT
BEGIN:VEVENT
DTSTART;TZID=America/New_York:20230223T180000
DTEND;TZID=America/New_York:20230223T200000
DTSTAMP:20260422T111653
CREATED:20220803T121837Z
LAST-MODIFIED:20230223T184525Z
UID:10003800-1677175200-1677182400@www.gesher-jds.org
SUMMARY:Wizard of Oz Jr. Musical Performance
DESCRIPTION:
URL:https://www.gesher-jds.org/event/tentative-musical-date/
END:VEVENT
BEGIN:VEVENT
DTSTART;VALUE=DATE:20230224
DTEND;VALUE=DATE:20230225
DTSTAMP:20260422T111653
CREATED:20220810T133032Z
LAST-MODIFIED:20230224T184514Z
UID:10003880-1677196800-1677283199@www.gesher-jds.org
SUMMARY:On Fridays We Wear Purple
DESCRIPTION:
URL:https://www.gesher-jds.org/event/on-we-wear-purple-26/
END:VEVENT
BEGIN:VEVENT
DTSTART;TZID=America/New_York:20230225T193000
DTEND;TZID=America/New_York:20230225T210000
DTSTAMP:20260422T111653
CREATED:20220301T150041Z
LAST-MODIFIED:20230225T190016Z
UID:10003527-1677353400-1677358800@www.gesher-jds.org
SUMMARY:Havdalah Siyum 3rd Grade
DESCRIPTION:
URL:https://www.gesher-jds.org/event/havdalah-siyum-3rd-grade/
END:VEVENT
END:VCALENDAR