BEGIN:VCALENDAR
VERSION:2.0
PRODID:-//Gesher JDS - ECPv6.15.17//NONSGML v1.0//EN
CALSCALE:GREGORIAN
METHOD:PUBLISH
X-ORIGINAL-URL:https://www.gesher-jds.org
X-WR-CALDESC:Events for Gesher JDS
REFRESH-INTERVAL;VALUE=DURATION:PT1H
X-Robots-Tag:noindex
X-PUBLISHED-TTL:PT1H
BEGIN:VTIMEZONE
TZID:America/New_York
BEGIN:DAYLIGHT
TZOFFSETFROM:-0500
TZOFFSETTO:-0400
TZNAME:EDT
DTSTART:20220313T070000
END:DAYLIGHT
BEGIN:STANDARD
TZOFFSETFROM:-0400
TZOFFSETTO:-0500
TZNAME:EST
DTSTART:20221106T060000
END:STANDARD
BEGIN:DAYLIGHT
TZOFFSETFROM:-0500
TZOFFSETTO:-0400
TZNAME:EDT
DTSTART:20230312T070000
END:DAYLIGHT
BEGIN:STANDARD
TZOFFSETFROM:-0400
TZOFFSETTO:-0500
TZNAME:EST
DTSTART:20231105T060000
END:STANDARD
BEGIN:DAYLIGHT
TZOFFSETFROM:-0500
TZOFFSETTO:-0400
TZNAME:EDT
DTSTART:20240310T070000
END:DAYLIGHT
BEGIN:STANDARD
TZOFFSETFROM:-0400
TZOFFSETTO:-0500
TZNAME:EST
DTSTART:20241103T060000
END:STANDARD
END:VTIMEZONE
BEGIN:VEVENT
DTSTART;VALUE=DATE:20231006
DTEND;VALUE=DATE:20231009
DTSTAMP:20260421T052538
CREATED:20230725T171538Z
LAST-MODIFIED:20231008T124824Z
UID:10004358-1696550400-1696809599@www.gesher-jds.org
SUMMARY:Shemini Atzeret & Simchat Torah
DESCRIPTION:
URL:https://www.gesher-jds.org/event/shemini-atzeret-simchat-torah/
END:VEVENT
BEGIN:VEVENT
DTSTART;VALUE=DATE:20231009
DTEND;VALUE=DATE:20231010
DTSTAMP:20260421T052538
CREATED:20230725T171538Z
LAST-MODIFIED:20231009T130352Z
UID:10003510-1696809600-1696895999@www.gesher-jds.org
SUMMARY:No School - Professional Development Day
DESCRIPTION:
URL:https://www.gesher-jds.org/event/no-school-professional-development-day/
END:VEVENT
BEGIN:VEVENT
DTSTART;VALUE=DATE:20231009
DTEND;VALUE=DATE:20231010
DTSTAMP:20260421T052538
CREATED:20230816T210132Z
LAST-MODIFIED:20231009T130352Z
UID:10004528-1696809600-1696895999@www.gesher-jds.org
SUMMARY:Wonders Extended Care Coverage Full Day 7:45am-6:00pm
DESCRIPTION:
URL:https://www.gesher-jds.org/event/wonders-extended-care-coverage-full-day-745am-600pm/
END:VEVENT
BEGIN:VEVENT
DTSTART;TZID=America/New_York:20231010T154500
DTEND;TZID=America/New_York:20231010T164500
DTSTAMP:20260421T052538
CREATED:20230815T202709Z
LAST-MODIFIED:20231010T131716Z
UID:10004520-1696952700-1696956300@www.gesher-jds.org
SUMMARY:Soccer Practice
DESCRIPTION:
URL:https://www.gesher-jds.org/event/soccer-practice-11/
END:VEVENT
BEGIN:VEVENT
DTSTART;TZID=America/New_York:20231012T154500
DTEND;TZID=America/New_York:20231012T164500
DTSTAMP:20260421T052538
CREATED:20230815T202710Z
LAST-MODIFIED:20231012T133340Z
UID:10004521-1697125500-1697129100@www.gesher-jds.org
SUMMARY:Soccer Practice
DESCRIPTION:
URL:https://www.gesher-jds.org/event/soccer-practice-12/
END:VEVENT
BEGIN:VEVENT
DTSTART;VALUE=DATE:20231013
DTEND;VALUE=DATE:20231014
DTSTAMP:20260421T052538
CREATED:20220810T133048Z
LAST-MODIFIED:20230103T154529Z
UID:10003927-1697155200-1697241599@www.gesher-jds.org
SUMMARY:On Fridays We Wear Purple
DESCRIPTION:
URL:https://www.gesher-jds.org/event/on-we-wear-purple-59/
END:VEVENT
END:VCALENDAR