BEGIN:VCALENDAR
VERSION:2.0
PRODID:-//Gesher JDS - ECPv6.15.17//NONSGML v1.0//EN
CALSCALE:GREGORIAN
METHOD:PUBLISH
X-ORIGINAL-URL:https://www.gesher-jds.org
X-WR-CALDESC:Events for Gesher JDS
REFRESH-INTERVAL;VALUE=DURATION:PT1H
X-Robots-Tag:noindex
X-PUBLISHED-TTL:PT1H
BEGIN:VTIMEZONE
TZID:America/New_York
BEGIN:DAYLIGHT
TZOFFSETFROM:-0500
TZOFFSETTO:-0400
TZNAME:EDT
DTSTART:20220313T070000
END:DAYLIGHT
BEGIN:STANDARD
TZOFFSETFROM:-0400
TZOFFSETTO:-0500
TZNAME:EST
DTSTART:20221106T060000
END:STANDARD
BEGIN:DAYLIGHT
TZOFFSETFROM:-0500
TZOFFSETTO:-0400
TZNAME:EDT
DTSTART:20230312T070000
END:DAYLIGHT
BEGIN:STANDARD
TZOFFSETFROM:-0400
TZOFFSETTO:-0500
TZNAME:EST
DTSTART:20231105T060000
END:STANDARD
BEGIN:DAYLIGHT
TZOFFSETFROM:-0500
TZOFFSETTO:-0400
TZNAME:EDT
DTSTART:20240310T070000
END:DAYLIGHT
BEGIN:STANDARD
TZOFFSETFROM:-0400
TZOFFSETTO:-0500
TZNAME:EST
DTSTART:20241103T060000
END:STANDARD
END:VTIMEZONE
BEGIN:VEVENT
DTSTART;VALUE=DATE:20231113
DTEND;VALUE=DATE:20231114
DTSTAMP:20260423T112613
CREATED:20230725T171551Z
LAST-MODIFIED:20231113T192056Z
UID:10004359-1699833600-1699919999@www.gesher-jds.org
SUMMARY:Sigd
DESCRIPTION:
URL:https://www.gesher-jds.org/event/sigd/
END:VEVENT
BEGIN:VEVENT
DTSTART;TZID=America/New_York:20231113T154500
DTEND;TZID=America/New_York:20231113T164500
DTSTAMP:20260423T112613
CREATED:20230725T171551Z
LAST-MODIFIED:20231113T192057Z
UID:10003525-1699890300-1699893900@www.gesher-jds.org
SUMMARY:Musical Rehearsal
DESCRIPTION:
URL:https://www.gesher-jds.org/event/musical-rehearsal-30/
END:VEVENT
BEGIN:VEVENT
DTSTART;VALUE=DATE:20231114
DTEND;VALUE=DATE:20231115
DTSTAMP:20260423T112613
CREATED:20230131T181525Z
LAST-MODIFIED:20231114T194419Z
UID:10004122-1699920000-1700006399@www.gesher-jds.org
SUMMARY:Rosh Chodesh Kislev
DESCRIPTION:
URL:https://www.gesher-jds.org/event/rosh-chodesh-kislev/
END:VEVENT
BEGIN:VEVENT
DTSTART;VALUE=DATE:20231117
DTEND;VALUE=DATE:20231118
DTSTAMP:20260423T112613
CREATED:20220810T133049Z
LAST-MODIFIED:20230103T154531Z
UID:10003936-1700179200-1700265599@www.gesher-jds.org
SUMMARY:On Fridays We Wear Purple
DESCRIPTION:
URL:https://www.gesher-jds.org/event/on-we-wear-purple-64/
END:VEVENT
BEGIN:VEVENT
DTSTART;VALUE=DATE:20231117
DTEND;VALUE=DATE:20231118
DTSTAMP:20260423T112613
CREATED:20231025T144609Z
LAST-MODIFIED:20231117T234024Z
UID:10004562-1700179200-1700265599@www.gesher-jds.org
SUMMARY:Report Card Release
DESCRIPTION:
URL:https://www.gesher-jds.org/event/report-card-release/
END:VEVENT
BEGIN:VEVENT
DTSTART;TZID=America/New_York:20231117T083000
DTEND;TZID=America/New_York:20231117T093000
DTSTAMP:20260423T112613
CREATED:20231116T195405Z
LAST-MODIFIED:20231116T233241Z
UID:10004569-1700209800-1700213400@www.gesher-jds.org
SUMMARY:Parenting Bravely: A Support Group
DESCRIPTION:
URL:https://www.gesher-jds.org/event/parenting-bravely-a-support-group/
END:VEVENT
END:VCALENDAR