BEGIN:VCALENDAR
VERSION:2.0
PRODID:-//Gesher JDS - ECPv6.15.17//NONSGML v1.0//EN
CALSCALE:GREGORIAN
METHOD:PUBLISH
X-ORIGINAL-URL:https://www.gesher-jds.org
X-WR-CALDESC:Events for Gesher JDS
REFRESH-INTERVAL;VALUE=DURATION:PT1H
X-Robots-Tag:noindex
X-PUBLISHED-TTL:PT1H
BEGIN:VTIMEZONE
TZID:America/New_York
BEGIN:DAYLIGHT
TZOFFSETFROM:-0500
TZOFFSETTO:-0400
TZNAME:EDT
DTSTART:20220313T070000
END:DAYLIGHT
BEGIN:STANDARD
TZOFFSETFROM:-0400
TZOFFSETTO:-0500
TZNAME:EST
DTSTART:20221106T060000
END:STANDARD
BEGIN:DAYLIGHT
TZOFFSETFROM:-0500
TZOFFSETTO:-0400
TZNAME:EDT
DTSTART:20230312T070000
END:DAYLIGHT
BEGIN:STANDARD
TZOFFSETFROM:-0400
TZOFFSETTO:-0500
TZNAME:EST
DTSTART:20231105T060000
END:STANDARD
BEGIN:DAYLIGHT
TZOFFSETFROM:-0500
TZOFFSETTO:-0400
TZNAME:EDT
DTSTART:20240310T070000
END:DAYLIGHT
BEGIN:STANDARD
TZOFFSETFROM:-0400
TZOFFSETTO:-0500
TZNAME:EST
DTSTART:20241103T060000
END:STANDARD
END:VTIMEZONE
BEGIN:VEVENT
DTSTART;VALUE=DATE:20231120
DTEND;VALUE=DATE:20231121
DTSTAMP:20260423T081847
CREATED:20230131T181526Z
LAST-MODIFIED:20231120T102548Z
UID:10004129-1700438400-1700524799@www.gesher-jds.org
SUMMARY:No School - Parent/Teacher Conferences
DESCRIPTION:
URL:https://www.gesher-jds.org/event/pt-conferences-in-person/
END:VEVENT
BEGIN:VEVENT
DTSTART;VALUE=DATE:20231120
DTEND;VALUE=DATE:20231122
DTSTAMP:20260423T081847
CREATED:20230816T210225Z
LAST-MODIFIED:20231121T103713Z
UID:10003682-1700438400-1700611199@www.gesher-jds.org
SUMMARY:Wonders Extended Care Coverage Full Day 7:45am-6:00pm
DESCRIPTION:
URL:https://www.gesher-jds.org/event/wonders-extended-care-coverage-full-day-745am-600pm-3/
END:VEVENT
BEGIN:VEVENT
DTSTART;VALUE=DATE:20231121
DTEND;VALUE=DATE:20231122
DTSTAMP:20260423T081847
CREATED:20230131T181526Z
LAST-MODIFIED:20231121T103713Z
UID:10004128-1700524800-1700611199@www.gesher-jds.org
SUMMARY:No School - Parent/Teacher Conferences
DESCRIPTION:
URL:https://www.gesher-jds.org/event/pt-conferences-via-google-meet/
END:VEVENT
BEGIN:VEVENT
DTSTART;VALUE=DATE:20231122
DTEND;VALUE=DATE:20231125
DTSTAMP:20260423T081847
CREATED:20230725T171602Z
LAST-MODIFIED:20231124T113213Z
UID:10004362-1700611200-1700870399@www.gesher-jds.org
SUMMARY:No School - Thanksgiving Break
DESCRIPTION:
URL:https://www.gesher-jds.org/event/no-school-thanksgiving-break-6/
END:VEVENT
BEGIN:VEVENT
DTSTART;VALUE=DATE:20231123
DTEND;VALUE=DATE:20231124
DTSTAMP:20260423T081847
CREATED:20230131T181526Z
LAST-MODIFIED:20231123T113220Z
UID:10004130-1700697600-1700783999@www.gesher-jds.org
SUMMARY:Thanksgiving
DESCRIPTION:
URL:https://www.gesher-jds.org/event/thanksgiving/
END:VEVENT
BEGIN:VEVENT
DTSTART;VALUE=DATE:20231124
DTEND;VALUE=DATE:20231125
DTSTAMP:20260423T081847
CREATED:20220810T133049Z
LAST-MODIFIED:20230103T154531Z
UID:10003940-1700784000-1700870399@www.gesher-jds.org
SUMMARY:On Fridays We Wear Purple
DESCRIPTION:
URL:https://www.gesher-jds.org/event/on-we-wear-purple-65/
END:VEVENT
END:VCALENDAR