BEGIN:VCALENDAR
VERSION:2.0
PRODID:-//Gesher JDS - ECPv6.15.17//NONSGML v1.0//EN
CALSCALE:GREGORIAN
METHOD:PUBLISH
X-ORIGINAL-URL:https://www.gesher-jds.org
X-WR-CALDESC:Events for Gesher JDS
REFRESH-INTERVAL;VALUE=DURATION:PT1H
X-Robots-Tag:noindex
X-PUBLISHED-TTL:PT1H
BEGIN:VTIMEZONE
TZID:America/New_York
BEGIN:DAYLIGHT
TZOFFSETFROM:-0500
TZOFFSETTO:-0400
TZNAME:EDT
DTSTART:20220313T070000
END:DAYLIGHT
BEGIN:STANDARD
TZOFFSETFROM:-0400
TZOFFSETTO:-0500
TZNAME:EST
DTSTART:20221106T060000
END:STANDARD
BEGIN:DAYLIGHT
TZOFFSETFROM:-0500
TZOFFSETTO:-0400
TZNAME:EDT
DTSTART:20230312T070000
END:DAYLIGHT
BEGIN:STANDARD
TZOFFSETFROM:-0400
TZOFFSETTO:-0500
TZNAME:EST
DTSTART:20231105T060000
END:STANDARD
BEGIN:DAYLIGHT
TZOFFSETFROM:-0500
TZOFFSETTO:-0400
TZNAME:EDT
DTSTART:20240310T070000
END:DAYLIGHT
BEGIN:STANDARD
TZOFFSETFROM:-0400
TZOFFSETTO:-0500
TZNAME:EST
DTSTART:20241103T060000
END:STANDARD
END:VTIMEZONE
BEGIN:VEVENT
DTSTART;TZID=America/New_York:20231127T154500
DTEND;TZID=America/New_York:20231127T170000
DTSTAMP:20260423T100054
CREATED:20231121T103442Z
LAST-MODIFIED:20231127T113215Z
UID:10004571-1701099900-1701104400@www.gesher-jds.org
SUMMARY:Musical Rehearsal
DESCRIPTION:
URL:https://www.gesher-jds.org/event/musical-rehearsal-117/
END:VEVENT
BEGIN:VEVENT
DTSTART;VALUE=DATE:20231128
DTEND;VALUE=DATE:20231129
DTSTAMP:20260423T100054
CREATED:20230131T181527Z
LAST-MODIFIED:20231128T114829Z
UID:10004131-1701129600-1701215999@www.gesher-jds.org
SUMMARY:Giving Tuesday
DESCRIPTION:
URL:https://www.gesher-jds.org/event/giving-tuesday-5/
END:VEVENT
BEGIN:VEVENT
DTSTART;VALUE=DATE:20231201
DTEND;VALUE=DATE:20231202
DTSTAMP:20260423T100054
CREATED:20220810T133050Z
LAST-MODIFIED:20230103T154531Z
UID:10003942-1701388800-1701475199@www.gesher-jds.org
SUMMARY:On Fridays We Wear Purple
DESCRIPTION:
URL:https://www.gesher-jds.org/event/on-we-wear-purple-66/
END:VEVENT
BEGIN:VEVENT
DTSTART;TZID=America/New_York:20231201T140500
DTEND;TZID=America/New_York:20231201T143500
DTSTAMP:20260423T100054
CREATED:20230824T214634Z
LAST-MODIFIED:20231201T120334Z
UID:10004532-1701439500-1701441300@www.gesher-jds.org
SUMMARY:Kabbalat Shabbat - ES Only
DESCRIPTION:
URL:https://www.gesher-jds.org/event/kabbalat-shabbat-es-only-2/
END:VEVENT
END:VCALENDAR