BEGIN:VCALENDAR
VERSION:2.0
PRODID:-//Gesher JDS - ECPv6.15.17//NONSGML v1.0//EN
CALSCALE:GREGORIAN
METHOD:PUBLISH
X-WR-CALNAME:Gesher JDS
X-ORIGINAL-URL:https://www.gesher-jds.org
X-WR-CALDESC:Events for Gesher JDS
REFRESH-INTERVAL;VALUE=DURATION:PT1H
X-Robots-Tag:noindex
X-PUBLISHED-TTL:PT1H
BEGIN:VTIMEZONE
TZID:America/New_York
BEGIN:DAYLIGHT
TZOFFSETFROM:-0500
TZOFFSETTO:-0400
TZNAME:EDT
DTSTART:20230312T070000
END:DAYLIGHT
BEGIN:STANDARD
TZOFFSETFROM:-0400
TZOFFSETTO:-0500
TZNAME:EST
DTSTART:20231105T060000
END:STANDARD
BEGIN:DAYLIGHT
TZOFFSETFROM:-0500
TZOFFSETTO:-0400
TZNAME:EDT
DTSTART:20240310T070000
END:DAYLIGHT
BEGIN:STANDARD
TZOFFSETFROM:-0400
TZOFFSETTO:-0500
TZNAME:EST
DTSTART:20241103T060000
END:STANDARD
BEGIN:DAYLIGHT
TZOFFSETFROM:-0500
TZOFFSETTO:-0400
TZNAME:EDT
DTSTART:20250309T070000
END:DAYLIGHT
BEGIN:STANDARD
TZOFFSETFROM:-0400
TZOFFSETTO:-0500
TZNAME:EST
DTSTART:20251102T060000
END:STANDARD
END:VTIMEZONE
BEGIN:VEVENT
DTSTART;VALUE=DATE:20241017
DTEND;VALUE=DATE:20241024
DTSTAMP:20260421T100934
CREATED:20240627T184737Z
LAST-MODIFIED:20241023T230520Z
UID:10003804-1729123200-1729727999@www.gesher-jds.org
SUMMARY:Sukkot
DESCRIPTION:
URL:https://www.gesher-jds.org/event/sukkot-6/
END:VEVENT
BEGIN:VEVENT
DTSTART;TZID=America/New_York:20241020T120000
DTEND;TZID=America/New_York:20241020T140000
DTSTAMP:20260421T100934
CREATED:20240725T220103Z
LAST-MODIFIED:20241019T225016Z
UID:10003837-1729425600-1729432800@www.gesher-jds.org
SUMMARY:PTO Pizza in the Hut Sukkah Party
DESCRIPTION:
URL:https://www.gesher-jds.org/event/pto-pizza-in-the-hut-sukkah-party/
END:VEVENT
BEGIN:VEVENT
DTSTART;TZID=America/New_York:20241021T154500
DTEND;TZID=America/New_York:20241021T164500
DTSTAMP:20260421T100934
CREATED:20240904T150509Z
LAST-MODIFIED:20241020T224912Z
UID:10004794-1729525500-1729529100@www.gesher-jds.org
SUMMARY:Musical Rehearsals
DESCRIPTION:
URL:https://www.gesher-jds.org/event/musical-rehearsals-6/
END:VEVENT
BEGIN:VEVENT
DTSTART;VALUE=DATE:20241023
DTEND;VALUE=DATE:20241024
DTSTAMP:20260421T100934
CREATED:20240627T184737Z
LAST-MODIFIED:20241023T230521Z
UID:10003801-1729641600-1729727999@www.gesher-jds.org
SUMMARY:Generations Day - half day
DESCRIPTION:
URL:https://www.gesher-jds.org/event/generations-day-half-day/
END:VEVENT
BEGIN:VEVENT
DTSTART;VALUE=DATE:20241023
DTEND;VALUE=DATE:20241024
DTSTAMP:20260421T100934
CREATED:20240627T184737Z
LAST-MODIFIED:20241023T230520Z
UID:10003803-1729641600-1729727999@www.gesher-jds.org
SUMMARY:Hoshana Rabbah
DESCRIPTION:
URL:https://www.gesher-jds.org/event/hoshana-rabbah/
END:VEVENT
BEGIN:VEVENT
DTSTART;VALUE=DATE:20241024
DTEND;VALUE=DATE:20241025
DTSTAMP:20260421T100934
CREATED:20240627T184736Z
LAST-MODIFIED:20241024T231810Z
UID:10003799-1729728000-1729814399@www.gesher-jds.org
SUMMARY:No School - Shemini Atzeret
DESCRIPTION:
URL:https://www.gesher-jds.org/event/no-school-shemini-atzeret-2/
END:VEVENT
BEGIN:VEVENT
DTSTART;VALUE=DATE:20241025
DTEND;VALUE=DATE:20241026
DTSTAMP:20260421T100934
CREATED:20240627T184737Z
LAST-MODIFIED:20241025T232028Z
UID:10003805-1729814400-1729900799@www.gesher-jds.org
SUMMARY:No School - Simchat Torah
DESCRIPTION:
URL:https://www.gesher-jds.org/event/no-school-simchat-torah-3/
END:VEVENT
END:VCALENDAR