BEGIN:VCALENDAR
VERSION:2.0
PRODID:-//Gesher JDS - ECPv6.15.17//NONSGML v1.0//EN
CALSCALE:GREGORIAN
METHOD:PUBLISH
X-WR-CALNAME:Gesher JDS
X-ORIGINAL-URL:https://www.gesher-jds.org
X-WR-CALDESC:Events for Gesher JDS
REFRESH-INTERVAL;VALUE=DURATION:PT1H
X-Robots-Tag:noindex
X-PUBLISHED-TTL:PT1H
BEGIN:VTIMEZONE
TZID:America/New_York
BEGIN:DAYLIGHT
TZOFFSETFROM:-0500
TZOFFSETTO:-0400
TZNAME:EDT
DTSTART:20230312T070000
END:DAYLIGHT
BEGIN:STANDARD
TZOFFSETFROM:-0400
TZOFFSETTO:-0500
TZNAME:EST
DTSTART:20231105T060000
END:STANDARD
BEGIN:DAYLIGHT
TZOFFSETFROM:-0500
TZOFFSETTO:-0400
TZNAME:EDT
DTSTART:20240310T070000
END:DAYLIGHT
BEGIN:STANDARD
TZOFFSETFROM:-0400
TZOFFSETTO:-0500
TZNAME:EST
DTSTART:20241103T060000
END:STANDARD
BEGIN:DAYLIGHT
TZOFFSETFROM:-0500
TZOFFSETTO:-0400
TZNAME:EDT
DTSTART:20250309T070000
END:DAYLIGHT
BEGIN:STANDARD
TZOFFSETFROM:-0400
TZOFFSETTO:-0500
TZNAME:EST
DTSTART:20251102T060000
END:STANDARD
END:VTIMEZONE
BEGIN:VEVENT
DTSTART;TZID=America/New_York:20241118T154500
DTEND;TZID=America/New_York:20241118T164500
DTSTAMP:20260423T005653
CREATED:20240904T150536Z
LAST-MODIFIED:20241118T132002Z
UID:10004798-1731944700-1731948300@www.gesher-jds.org
SUMMARY:Musical Rehearsals
DESCRIPTION:
URL:https://www.gesher-jds.org/event/musical-rehearsals-10/
END:VEVENT
BEGIN:VEVENT
DTSTART;VALUE=DATE:20241120
DTEND;VALUE=DATE:20241121
DTSTAMP:20260423T005653
CREATED:20240627T184749Z
LAST-MODIFIED:20241120T133417Z
UID:10004645-1732060800-1732147199@www.gesher-jds.org
SUMMARY:Make Up Picture Day
DESCRIPTION:
URL:https://www.gesher-jds.org/event/make-up-picture-day-2/
END:VEVENT
BEGIN:VEVENT
DTSTART;TZID=America/New_York:20241121T154500
DTEND;TZID=America/New_York:20241121T164500
DTSTAMP:20260423T005653
CREATED:20240801T230146Z
LAST-MODIFIED:20241121T135047Z
UID:10004694-1732203900-1732207500@www.gesher-jds.org
SUMMARY:Yearbook
DESCRIPTION:
URL:https://www.gesher-jds.org/event/yearbook-87/
END:VEVENT
BEGIN:VEVENT
DTSTART;TZID=America/New_York:20241122T140000
DTEND;TZID=America/New_York:20241122T143500
DTSTAMP:20260423T005653
CREATED:20240827T135026Z
LAST-MODIFIED:20241122T135013Z
UID:10003931-1732284000-1732286100@www.gesher-jds.org
SUMMARY:All School Kabbalat Shabbat
DESCRIPTION:
URL:https://www.gesher-jds.org/event/all-school-kabbalat-shabbat-5/
END:VEVENT
END:VCALENDAR