BEGIN:VCALENDAR
VERSION:2.0
PRODID:-//Gesher JDS - ECPv6.15.17//NONSGML v1.0//EN
CALSCALE:GREGORIAN
METHOD:PUBLISH
X-WR-CALNAME:Gesher JDS
X-ORIGINAL-URL:https://www.gesher-jds.org
X-WR-CALDESC:Events for Gesher JDS
REFRESH-INTERVAL;VALUE=DURATION:PT1H
X-Robots-Tag:noindex
X-PUBLISHED-TTL:PT1H
BEGIN:VTIMEZONE
TZID:America/New_York
BEGIN:DAYLIGHT
TZOFFSETFROM:-0500
TZOFFSETTO:-0400
TZNAME:EDT
DTSTART:20230312T070000
END:DAYLIGHT
BEGIN:STANDARD
TZOFFSETFROM:-0400
TZOFFSETTO:-0500
TZNAME:EST
DTSTART:20231105T060000
END:STANDARD
BEGIN:DAYLIGHT
TZOFFSETFROM:-0500
TZOFFSETTO:-0400
TZNAME:EDT
DTSTART:20240310T070000
END:DAYLIGHT
BEGIN:STANDARD
TZOFFSETFROM:-0400
TZOFFSETTO:-0500
TZNAME:EST
DTSTART:20241103T060000
END:STANDARD
BEGIN:DAYLIGHT
TZOFFSETFROM:-0500
TZOFFSETTO:-0400
TZNAME:EDT
DTSTART:20250309T070000
END:DAYLIGHT
BEGIN:STANDARD
TZOFFSETFROM:-0400
TZOFFSETTO:-0500
TZNAME:EST
DTSTART:20251102T060000
END:STANDARD
END:VTIMEZONE
BEGIN:VEVENT
DTSTART;TZID=America/New_York:20241209T154500
DTEND;TZID=America/New_York:20241209T164500
DTSTAMP:20260422T113511
CREATED:20240904T150549Z
LAST-MODIFIED:20241209T161808Z
UID:10003951-1733759100-1733762700@www.gesher-jds.org
SUMMARY:Musical Rehearsals
DESCRIPTION:
URL:https://www.gesher-jds.org/event/musical-rehearsals-13/
END:VEVENT
BEGIN:VEVENT
DTSTART;TZID=America/New_York:20241210T154500
DTEND;TZID=America/New_York:20241210T170000
DTSTAMP:20260422T113511
CREATED:20241121T134731Z
LAST-MODIFIED:20241210T161957Z
UID:10004992-1733845500-1733850000@www.gesher-jds.org
SUMMARY:Basketball Practice
DESCRIPTION:
URL:https://www.gesher-jds.org/event/basketball-practice-23/
END:VEVENT
BEGIN:VEVENT
DTSTART;TZID=America/New_York:20241212T154500
DTEND;TZID=America/New_York:20241212T164500
DTSTAMP:20260422T113511
CREATED:20240801T230148Z
LAST-MODIFIED:20241212T164914Z
UID:10004697-1734018300-1734021900@www.gesher-jds.org
SUMMARY:Yearbook
DESCRIPTION:
URL:https://www.gesher-jds.org/event/yearbook-90/
END:VEVENT
BEGIN:VEVENT
DTSTART;TZID=America/New_York:20241212T154500
DTEND;TZID=America/New_York:20241212T170000
DTSTAMP:20260422T113511
CREATED:20241121T134731Z
LAST-MODIFIED:20241212T164914Z
UID:10004993-1734018300-1734022800@www.gesher-jds.org
SUMMARY:Basketball Practice
DESCRIPTION:
URL:https://www.gesher-jds.org/event/basketball-practice-24/
END:VEVENT
BEGIN:VEVENT
DTSTART;TZID=America/New_York:20241213T133000
DTEND;TZID=America/New_York:20241213T140500
DTSTAMP:20260422T113511
CREATED:20241120T133318Z
LAST-MODIFIED:20241213T170507Z
UID:10004989-1734096600-1734098700@www.gesher-jds.org
SUMMARY:1st Grade Kabbalat Shabbat Hosted by Moed
DESCRIPTION:
URL:https://www.gesher-jds.org/event/1st-grade-kabbalat-shabbat-hosted-by-moed/
END:VEVENT
BEGIN:VEVENT
DTSTART;TZID=America/New_York:20241213T140000
DTEND;TZID=America/New_York:20241213T143500
DTSTAMP:20260422T113512
CREATED:20240827T135027Z
LAST-MODIFIED:20241213T170508Z
UID:10003935-1734098400-1734100500@www.gesher-jds.org
SUMMARY:Upper ES (2nd-5th) Kabbalat Shabbat
DESCRIPTION:
URL:https://www.gesher-jds.org/event/upper-es-kabbalat-shabbat-2/
END:VEVENT
BEGIN:VEVENT
DTSTART;TZID=America/New_York:20241214T180000
DTEND;TZID=America/New_York:20241214T200000
DTSTAMP:20260422T113512
CREATED:20240725T220129Z
LAST-MODIFIED:20241214T170312Z
UID:10003838-1734199200-1734206400@www.gesher-jds.org
SUMMARY:PTO Havdalah & Dinner
DESCRIPTION:
URL:https://www.gesher-jds.org/event/pto-havdalah-dinner/
END:VEVENT
END:VCALENDAR