BEGIN:VCALENDAR
VERSION:2.0
PRODID:-//Gesher JDS - ECPv6.15.17//NONSGML v1.0//EN
CALSCALE:GREGORIAN
METHOD:PUBLISH
X-WR-CALNAME:Gesher JDS
X-ORIGINAL-URL:https://www.gesher-jds.org
X-WR-CALDESC:Events for Gesher JDS
REFRESH-INTERVAL;VALUE=DURATION:PT1H
X-Robots-Tag:noindex
X-PUBLISHED-TTL:PT1H
BEGIN:VTIMEZONE
TZID:America/New_York
BEGIN:DAYLIGHT
TZOFFSETFROM:-0500
TZOFFSETTO:-0400
TZNAME:EDT
DTSTART:20240310T070000
END:DAYLIGHT
BEGIN:STANDARD
TZOFFSETFROM:-0400
TZOFFSETTO:-0500
TZNAME:EST
DTSTART:20241103T060000
END:STANDARD
BEGIN:DAYLIGHT
TZOFFSETFROM:-0500
TZOFFSETTO:-0400
TZNAME:EDT
DTSTART:20250309T070000
END:DAYLIGHT
BEGIN:STANDARD
TZOFFSETFROM:-0400
TZOFFSETTO:-0500
TZNAME:EST
DTSTART:20251102T060000
END:STANDARD
BEGIN:DAYLIGHT
TZOFFSETFROM:-0500
TZOFFSETTO:-0400
TZNAME:EDT
DTSTART:20260308T070000
END:DAYLIGHT
BEGIN:STANDARD
TZOFFSETFROM:-0400
TZOFFSETTO:-0500
TZNAME:EST
DTSTART:20261101T060000
END:STANDARD
END:VTIMEZONE
BEGIN:VEVENT
DTSTART;VALUE=DATE:20250120
DTEND;VALUE=DATE:20250121
DTSTAMP:20260421T112611
CREATED:20240627T184803Z
LAST-MODIFIED:20250120T214818Z
UID:10004656-1737331200-1737417599@www.gesher-jds.org
SUMMARY:No School - MLK Day
DESCRIPTION:
URL:https://www.gesher-jds.org/event/no-school-mlk-day-4/
END:VEVENT
BEGIN:VEVENT
DTSTART;TZID=America/New_York:20250121T154500
DTEND;TZID=America/New_York:20250121T170000
DTSTAMP:20260421T112611
CREATED:20241213T170301Z
LAST-MODIFIED:20250102T191856Z
UID:10005008-1737474300-1737478800@www.gesher-jds.org
SUMMARY:Basketball Practice
DESCRIPTION:
URL:https://www.gesher-jds.org/event/basketball-practice-30/
END:VEVENT
BEGIN:VEVENT
DTSTART;TZID=America/New_York:20250123T154500
DTEND;TZID=America/New_York:20250123T164500
DTSTAMP:20260421T112611
CREATED:20240801T230216Z
LAST-MODIFIED:20250122T220326Z
UID:10003858-1737647100-1737650700@www.gesher-jds.org
SUMMARY:Yearbook
DESCRIPTION:
URL:https://www.gesher-jds.org/event/yearbook-96/
END:VEVENT
BEGIN:VEVENT
DTSTART;TZID=America/New_York:20250123T154500
DTEND;TZID=America/New_York:20250123T170000
DTSTAMP:20260421T112611
CREATED:20241213T170301Z
LAST-MODIFIED:20250102T191856Z
UID:10005009-1737647100-1737651600@www.gesher-jds.org
SUMMARY:Basketball Practice
DESCRIPTION:
URL:https://www.gesher-jds.org/event/basketball-practice-31/
END:VEVENT
BEGIN:VEVENT
DTSTART;TZID=America/New_York:20250124T140000
DTEND;TZID=America/New_York:20250124T143500
DTSTAMP:20260421T112611
CREATED:20240827T135029Z
LAST-MODIFIED:20250123T222025Z
UID:10003941-1737727200-1737729300@www.gesher-jds.org
SUMMARY:Elementary School Kabbalat Shabbat
DESCRIPTION:
URL:https://www.gesher-jds.org/event/elementary-school-kabbalat-shabbat-2/
END:VEVENT
END:VCALENDAR