BEGIN:VCALENDAR
VERSION:2.0
PRODID:-//Gesher JDS - ECPv6.15.17//NONSGML v1.0//EN
CALSCALE:GREGORIAN
METHOD:PUBLISH
X-ORIGINAL-URL:https://www.gesher-jds.org
X-WR-CALDESC:Events for Gesher JDS
REFRESH-INTERVAL;VALUE=DURATION:PT1H
X-Robots-Tag:noindex
X-PUBLISHED-TTL:PT1H
BEGIN:VTIMEZONE
TZID:America/New_York
BEGIN:DAYLIGHT
TZOFFSETFROM:-0500
TZOFFSETTO:-0400
TZNAME:EDT
DTSTART:20240310T070000
END:DAYLIGHT
BEGIN:STANDARD
TZOFFSETFROM:-0400
TZOFFSETTO:-0500
TZNAME:EST
DTSTART:20241103T060000
END:STANDARD
BEGIN:DAYLIGHT
TZOFFSETFROM:-0500
TZOFFSETTO:-0400
TZNAME:EDT
DTSTART:20250309T070000
END:DAYLIGHT
BEGIN:STANDARD
TZOFFSETFROM:-0400
TZOFFSETTO:-0500
TZNAME:EST
DTSTART:20251102T060000
END:STANDARD
BEGIN:DAYLIGHT
TZOFFSETFROM:-0500
TZOFFSETTO:-0400
TZNAME:EDT
DTSTART:20260308T070000
END:DAYLIGHT
BEGIN:STANDARD
TZOFFSETFROM:-0400
TZOFFSETTO:-0500
TZNAME:EST
DTSTART:20261101T060000
END:STANDARD
END:VTIMEZONE
BEGIN:VEVENT
DTSTART;TZID=America/New_York:20250203T154500
DTEND;TZID=America/New_York:20250203T170000
DTSTAMP:20260423T024036
CREATED:20241217T170259Z
LAST-MODIFIED:20250202T233409Z
UID:10005033-1738597500-1738602000@www.gesher-jds.org
SUMMARY:Musical Rehearsals
DESCRIPTION:
URL:https://www.gesher-jds.org/event/musical-rehearsals-225/
END:VEVENT
BEGIN:VEVENT
DTSTART;TZID=America/New_York:20250204T154500
DTEND;TZID=America/New_York:20250204T170000
DTSTAMP:20260423T024036
CREATED:20241213T170316Z
LAST-MODIFIED:20250102T191857Z
UID:10005012-1738683900-1738688400@www.gesher-jds.org
SUMMARY:Basketball Practice
DESCRIPTION:
URL:https://www.gesher-jds.org/event/basketball-practice-33/
END:VEVENT
BEGIN:VEVENT
DTSTART;TZID=America/New_York:20250205T154500
DTEND;TZID=America/New_York:20250205T170000
DTSTAMP:20260423T024036
CREATED:20241217T170312Z
LAST-MODIFIED:20250204T233412Z
UID:10005034-1738770300-1738774800@www.gesher-jds.org
SUMMARY:Musical Rehearsals
DESCRIPTION:
URL:https://www.gesher-jds.org/event/musical-rehearsals-226/
END:VEVENT
BEGIN:VEVENT
DTSTART;TZID=America/New_York:20250206T153000
DTEND;TZID=America/New_York:20250206T173000
DTSTAMP:20260423T024036
CREATED:20241213T170317Z
LAST-MODIFIED:20250205T233512Z
UID:10005013-1738855800-1738863000@www.gesher-jds.org
SUMMARY:Gesher United Basketball vs. Browne Academy
DESCRIPTION:
URL:https://www.gesher-jds.org/event/gesher-united-basketball-vs-browne-academy/
LOCATION:Browne Academy\, 5918 Telegraph Rd\, Franconia\, VA\, United States
GEO:38.791274;-77.085113
X-APPLE-STRUCTURED-LOCATION;VALUE=URI;X-ADDRESS=Browne Academy 5918 Telegraph Rd Franconia VA United States;X-APPLE-RADIUS=500;X-TITLE=5918 Telegraph Rd:geo:-77.085113,38.791274
END:VEVENT
BEGIN:VEVENT
DTSTART;TZID=America/New_York:20250206T154500
DTEND;TZID=America/New_York:20250206T164500
DTSTAMP:20260423T024036
CREATED:20240801T230217Z
LAST-MODIFIED:20250205T233513Z
UID:10003862-1738856700-1738860300@www.gesher-jds.org
SUMMARY:Yearbook
DESCRIPTION:
URL:https://www.gesher-jds.org/event/yearbook-98/
END:VEVENT
BEGIN:VEVENT
DTSTART;VALUE=DATE:20250207
DTEND;VALUE=DATE:20250208
DTSTAMP:20260423T024036
CREATED:20240627T184803Z
LAST-MODIFIED:20250207T102007Z
UID:10003808-1738886400-1738972799@www.gesher-jds.org
SUMMARY:No School - Professional Development Day
DESCRIPTION:
URL:https://www.gesher-jds.org/event/no-school-professional-development-day-5/
END:VEVENT
END:VCALENDAR