BEGIN:VCALENDAR
VERSION:2.0
PRODID:-//Gesher JDS - ECPv6.15.17//NONSGML v1.0//EN
CALSCALE:GREGORIAN
METHOD:PUBLISH
X-ORIGINAL-URL:https://www.gesher-jds.org
X-WR-CALDESC:Events for Gesher JDS
REFRESH-INTERVAL;VALUE=DURATION:PT1H
X-Robots-Tag:noindex
X-PUBLISHED-TTL:PT1H
BEGIN:VTIMEZONE
TZID:America/New_York
BEGIN:DAYLIGHT
TZOFFSETFROM:-0500
TZOFFSETTO:-0400
TZNAME:EDT
DTSTART:20240310T070000
END:DAYLIGHT
BEGIN:STANDARD
TZOFFSETFROM:-0400
TZOFFSETTO:-0500
TZNAME:EST
DTSTART:20241103T060000
END:STANDARD
BEGIN:DAYLIGHT
TZOFFSETFROM:-0500
TZOFFSETTO:-0400
TZNAME:EDT
DTSTART:20250309T070000
END:DAYLIGHT
BEGIN:STANDARD
TZOFFSETFROM:-0400
TZOFFSETTO:-0500
TZNAME:EST
DTSTART:20251102T060000
END:STANDARD
BEGIN:DAYLIGHT
TZOFFSETFROM:-0500
TZOFFSETTO:-0400
TZNAME:EDT
DTSTART:20260308T070000
END:DAYLIGHT
BEGIN:STANDARD
TZOFFSETFROM:-0400
TZOFFSETTO:-0500
TZNAME:EST
DTSTART:20261101T060000
END:STANDARD
END:VTIMEZONE
BEGIN:VEVENT
DTSTART;TZID=America/New_York:20250309T140000
DTEND;TZID=America/New_York:20250309T160000
DTSTAMP:20260423T075118
CREATED:20250225T130321Z
LAST-MODIFIED:20250309T145017Z
UID:10005262-1741528800-1741536000@www.gesher-jds.org
SUMMARY:Chabad Hamantaschen Bake at Gesher
DESCRIPTION:
URL:https://www.gesher-jds.org/event/chabad-hamantaschen-bake-at-gesher/
END:VEVENT
BEGIN:VEVENT
DTSTART;TZID=America/New_York:20250310T154500
DTEND;TZID=America/New_York:20250310T170000
DTSTAMP:20260423T075118
CREATED:20241107T115237Z
LAST-MODIFIED:20241216T170417Z
UID:10004898-1741621500-1741626000@www.gesher-jds.org
SUMMARY:Musical Rehearsals
DESCRIPTION:
URL:https://www.gesher-jds.org/event/musical-rehearsals-124/
END:VEVENT
BEGIN:VEVENT
DTSTART;TZID=America/New_York:20250311T154500
DTEND;TZID=America/New_York:20250311T170000
DTSTAMP:20260423T075118
CREATED:20241213T170358Z
LAST-MODIFIED:20250102T191901Z
UID:10005022-1741707900-1741712400@www.gesher-jds.org
SUMMARY:Basketball Practice
DESCRIPTION:
URL:https://www.gesher-jds.org/event/basketball-practice-40/
END:VEVENT
BEGIN:VEVENT
DTSTART;TZID=America/New_York:20250312T140000
DTEND;TZID=America/New_York:20250312T150000
DTSTAMP:20260423T075118
CREATED:20240627T184816Z
LAST-MODIFIED:20250312T150448Z
UID:10004657-1741788000-1741791600@www.gesher-jds.org
SUMMARY:3rd Grade Purim Spiel Siyum
DESCRIPTION:
URL:https://www.gesher-jds.org/event/purim-spiel-4/
END:VEVENT
BEGIN:VEVENT
DTSTART;TZID=America/New_York:20250312T154500
DTEND;TZID=America/New_York:20250312T170000
DTSTAMP:20260423T075118
CREATED:20241217T170353Z
LAST-MODIFIED:20250312T150449Z
UID:10005044-1741794300-1741798800@www.gesher-jds.org
SUMMARY:Musical Rehearsals
DESCRIPTION:
URL:https://www.gesher-jds.org/event/musical-rehearsals-236/
END:VEVENT
BEGIN:VEVENT
DTSTART;VALUE=DATE:20250313
DTEND;VALUE=DATE:20250315
DTSTAMP:20260423T075118
CREATED:20240627T184816Z
LAST-MODIFIED:20250314T150535Z
UID:10004658-1741824000-1741996799@www.gesher-jds.org
SUMMARY:Purim
DESCRIPTION:
URL:https://www.gesher-jds.org/event/purim-3/
END:VEVENT
BEGIN:VEVENT
DTSTART;TZID=America/New_York:20250313T154500
DTEND;TZID=America/New_York:20250313T164500
DTSTAMP:20260423T075118
CREATED:20240801T230228Z
LAST-MODIFIED:20250313T150406Z
UID:10004700-1741880700-1741884300@www.gesher-jds.org
SUMMARY:Yearbook
DESCRIPTION:
URL:https://www.gesher-jds.org/event/yearbook-103/
END:VEVENT
BEGIN:VEVENT
DTSTART;TZID=America/New_York:20250313T154500
DTEND;TZID=America/New_York:20250313T170000
DTSTAMP:20260423T075118
CREATED:20241213T170359Z
LAST-MODIFIED:20250102T191902Z
UID:10005023-1741880700-1741885200@www.gesher-jds.org
SUMMARY:Basketball Practice
DESCRIPTION:
URL:https://www.gesher-jds.org/event/basketball-practice-41/
END:VEVENT
BEGIN:VEVENT
DTSTART;VALUE=DATE:20250314
DTEND;VALUE=DATE:20250315
DTSTAMP:20260423T075118
CREATED:20240627T184815Z
LAST-MODIFIED:20250314T150535Z
UID:10003815-1741910400-1741996799@www.gesher-jds.org
SUMMARY:Noon Dismissal - Purim
DESCRIPTION:
URL:https://www.gesher-jds.org/event/noon-dismissal-purim-3/
END:VEVENT
BEGIN:VEVENT
DTSTART;VALUE=DATE:20250314
DTEND;VALUE=DATE:20250315
DTSTAMP:20260423T075118
CREATED:20240627T184816Z
LAST-MODIFIED:20250314T150535Z
UID:10003816-1741910400-1741996799@www.gesher-jds.org
SUMMARY:Carnival & Megillah Reading
DESCRIPTION:
URL:https://www.gesher-jds.org/event/carnival-megillah-reading/
END:VEVENT
BEGIN:VEVENT
DTSTART;TZID=America/New_York:20250314T120000
DTEND;TZID=America/New_York:20250314T133000
DTSTAMP:20260423T075118
CREATED:20240627T184804Z
LAST-MODIFIED:20250314T150535Z
UID:10003814-1741953600-1741959000@www.gesher-jds.org
SUMMARY:Middle School Purim Seudah & Social
DESCRIPTION:
URL:https://www.gesher-jds.org/event/middle-school-dance-4/
END:VEVENT
END:VCALENDAR