BEGIN:VCALENDAR
VERSION:2.0
PRODID:-//Gesher JDS - ECPv6.15.17//NONSGML v1.0//EN
CALSCALE:GREGORIAN
METHOD:PUBLISH
X-WR-CALNAME:Gesher JDS
X-ORIGINAL-URL:https://www.gesher-jds.org
X-WR-CALDESC:Events for Gesher JDS
REFRESH-INTERVAL;VALUE=DURATION:PT1H
X-Robots-Tag:noindex
X-PUBLISHED-TTL:PT1H
BEGIN:VTIMEZONE
TZID:America/New_York
BEGIN:DAYLIGHT
TZOFFSETFROM:-0500
TZOFFSETTO:-0400
TZNAME:EDT
DTSTART:20240310T070000
END:DAYLIGHT
BEGIN:STANDARD
TZOFFSETFROM:-0400
TZOFFSETTO:-0500
TZNAME:EST
DTSTART:20241103T060000
END:STANDARD
BEGIN:DAYLIGHT
TZOFFSETFROM:-0500
TZOFFSETTO:-0400
TZNAME:EDT
DTSTART:20250309T070000
END:DAYLIGHT
BEGIN:STANDARD
TZOFFSETFROM:-0400
TZOFFSETTO:-0500
TZNAME:EST
DTSTART:20251102T060000
END:STANDARD
BEGIN:DAYLIGHT
TZOFFSETFROM:-0500
TZOFFSETTO:-0400
TZNAME:EDT
DTSTART:20260308T070000
END:DAYLIGHT
BEGIN:STANDARD
TZOFFSETFROM:-0400
TZOFFSETTO:-0500
TZNAME:EST
DTSTART:20261101T060000
END:STANDARD
END:VTIMEZONE
BEGIN:VEVENT
DTSTART;VALUE=DATE:20250526
DTEND;VALUE=DATE:20250527
DTSTAMP:20260421T074029
CREATED:20240627T184841Z
LAST-MODIFIED:20250526T172008Z
UID:10003833-1748217600-1748303999@www.gesher-jds.org
SUMMARY:No School - Memorial Day
DESCRIPTION:
URL:https://www.gesher-jds.org/event/no-school-memorial-day-5/
END:VEVENT
BEGIN:VEVENT
DTSTART;VALUE=DATE:20250526
DTEND;VALUE=DATE:20250527
DTSTAMP:20260421T074029
CREATED:20240627T184841Z
LAST-MODIFIED:20250526T172008Z
UID:10003834-1748217600-1748303999@www.gesher-jds.org
SUMMARY:Yom Yerushalayim
DESCRIPTION:
URL:https://www.gesher-jds.org/event/yom-yerushalayim-2/
END:VEVENT
BEGIN:VEVENT
DTSTART;TZID=America/New_York:20250529T193000
DTEND;TZID=America/New_York:20250529T210000
DTSTAMP:20260421T074029
CREATED:20250515T182743Z
LAST-MODIFIED:20250529T173534Z
UID:10005282-1748547000-1748552400@www.gesher-jds.org
SUMMARY:Gesher Annual Meeting Zoom
DESCRIPTION:https://us06web.zoom.us/j/3076222274?pwd=RUxzbjF3RHVVdElCSzF3UGE3QmtoZz09
URL:https://www.gesher-jds.org/event/gesher-annual-meeting-zoom/
LOCATION:https://us06web.zoom.us/j/3076222274?pwd=RUxzbjF3RHVVdElCSzF3UGE3QmtoZz09
END:VEVENT
BEGIN:VEVENT
DTSTART;VALUE=DATE:20250530
DTEND;VALUE=DATE:20250531
DTSTAMP:20260421T074029
CREATED:20240627T184841Z
LAST-MODIFIED:20250530T174917Z
UID:10003835-1748563200-1748649599@www.gesher-jds.org
SUMMARY:Shavuot Celebrated at School
DESCRIPTION:
URL:https://www.gesher-jds.org/event/shavuot-celebrated-at-school/
END:VEVENT
BEGIN:VEVENT
DTSTART;TZID=America/New_York:20250530T083000
DTEND;TZID=America/New_York:20250530T093000
DTSTAMP:20260421T074029
CREATED:20240627T184842Z
LAST-MODIFIED:20250529T173534Z
UID:10003836-1748593800-1748597400@www.gesher-jds.org
SUMMARY:1st Grade Siddur Siyum
DESCRIPTION:
URL:https://www.gesher-jds.org/event/1st-grade-siddur-siyum/
END:VEVENT
END:VCALENDAR